BEGIN:VCALENDAR
VERSION:2.0
PRODID:-//OLOA - ECPv6.0.13.1//NONSGML v1.0//EN
CALSCALE:GREGORIAN
METHOD:PUBLISH
X-WR-CALNAME:OLOA
X-ORIGINAL-URL:https://oloadsm.com
X-WR-CALDESC:Eventos para OLOA
REFRESH-INTERVAL;VALUE=DURATION:PT1H
X-Robots-Tag:noindex
X-PUBLISHED-TTL:PT1H
BEGIN:VTIMEZONE
TZID:UTC
BEGIN:STANDARD
TZOFFSETFROM:+0000
TZOFFSETTO:+0000
TZNAME:UTC
DTSTART:20260101T000000
END:STANDARD
END:VTIMEZONE
BEGIN:VEVENT
DTSTART;TZID=UTC:20260423T100000
DTEND;TZID=UTC:20260423T110000
DTSTAMP:20260423T015750
CREATED:20230327T231117Z
LAST-MODIFIED:20230327T231117Z
UID:10002949-1776938400-1776942000@oloadsm.com
SUMMARY:Adoración Eucarística
DESCRIPTION:
URL:https://oloadsm.com/event/adoracion-eucaristica/2026-04-23/
END:VEVENT
BEGIN:VEVENT
DTSTART;TZID=UTC:20260423T160000
DTEND;TZID=UTC:20260423T170000
DTSTAMP:20260423T015750
CREATED:20230327T231451Z
LAST-MODIFIED:20230327T231451Z
UID:10004376-1776960000-1776963600@oloadsm.com
SUMMARY:Reconciliaciones
DESCRIPTION:
URL:https://oloadsm.com/event/reconciliaciones/2026-04-23/
END:VEVENT
BEGIN:VEVENT
DTSTART;TZID=UTC:20260423T170000
DTEND;TZID=UTC:20260423T180000
DTSTAMP:20260423T015750
CREATED:20230327T231150Z
LAST-MODIFIED:20230519T165932Z
UID:10003210-1776963600-1776967200@oloadsm.com
SUMMARY:Adoración Eucarística
DESCRIPTION:
URL:https://oloadsm.com/event/adoracion-eucaristica-2/2026-04-23/
END:VEVENT
BEGIN:VEVENT
DTSTART;TZID=UTC:20260423T180000
DTEND;TZID=UTC:20260423T200000
DTSTAMP:20260423T015750
CREATED:20230424T161744Z
LAST-MODIFIED:20230424T163017Z
UID:10006869-1776967200-1776974400@oloadsm.com
SUMMARY:Grupo de Jóvenes
DESCRIPTION:
URL:https://oloadsm.com/event/grupo-de-jovenes/2026-04-23/
LOCATION:Sótano templo\, 1271 E 9th St. Des Moines\, IA 50316\, Des Moines\, United States
CATEGORIES:Ministerios
END:VEVENT
BEGIN:VEVENT
DTSTART;TZID=UTC:20260423T190000
DTEND;TZID=UTC:20260423T200000
DTSTAMP:20260423T015750
CREATED:20230424T161618Z
LAST-MODIFIED:20230424T161618Z
UID:10006608-1776970800-1776974400@oloadsm.com
SUMMARY:Coros
DESCRIPTION:
URL:https://oloadsm.com/event/coros/2026-04-23/
LOCATION:Sótano de la Rectoría\, 1271 E 9th St. Des Moines\, IA 50316\, Des Moines\, United States
CATEGORIES:Ministerios
END:VEVENT
END:VCALENDAR