BEGIN:VCALENDAR
VERSION:2.0
PRODID:-//OLOA - ECPv6.0.13.1//NONSGML v1.0//EN
CALSCALE:GREGORIAN
METHOD:PUBLISH
X-ORIGINAL-URL:https://oloadsm.com
X-WR-CALDESC:Eventos para OLOA
REFRESH-INTERVAL;VALUE=DURATION:PT1H
X-Robots-Tag:noindex
X-PUBLISHED-TTL:PT1H
BEGIN:VTIMEZONE
TZID:UTC
BEGIN:STANDARD
TZOFFSETFROM:+0000
TZOFFSETTO:+0000
TZNAME:UTC
DTSTART:20230101T000000
END:STANDARD
END:VTIMEZONE
BEGIN:VEVENT
DTSTART;TZID=UTC:20230501T190000
DTEND;TZID=UTC:20230501T200000
DTSTAMP:20260422T152346
CREATED:20230424T162309Z
LAST-MODIFIED:20230424T162830Z
UID:10007499-1682967600-1682971200@oloadsm.com
SUMMARY:Grupo de Oración Crecimiento
DESCRIPTION:
URL:https://oloadsm.com/event/grupo-de-oracion-crecimiento/2023-05-01/
LOCATION:Sótano templo\, 1271 E 9th St. Des Moines\, IA 50316\, Des Moines\, United States
CATEGORIES:Ministerios
END:VEVENT
BEGIN:VEVENT
DTSTART;TZID=UTC:20230501T193000
DTEND;TZID=UTC:20230501T210000
DTSTAMP:20260422T152346
CREATED:20230424T162506Z
LAST-MODIFIED:20230424T162924Z
UID:10007237-1682969400-1682974800@oloadsm.com
SUMMARY:Grupo de Oración Asamblea
DESCRIPTION:
URL:https://oloadsm.com/event/grupo-de-oracion-asamblea/2023-05-01/
LOCATION:Sótano templo\, 1271 E 9th St. Des Moines\, IA 50316\, Des Moines\, United States
CATEGORIES:Ministerios
END:VEVENT
BEGIN:VEVENT
DTSTART;TZID=UTC:20230502T180000
DTEND;TZID=UTC:20230502T200000
DTSTAMP:20260422T152346
CREATED:20230424T152030Z
LAST-MODIFIED:20230517T203709Z
UID:10006192-1683050400-1683057600@oloadsm.com
SUMMARY:Grupo de Mujeres
DESCRIPTION:Se reúnen el segundo Sábado de mes\, de 9:00 AM a 11:00 AM en el templo Las reuniones inician con el rezo a la Divina Misericordia o el rezo del Santo Rosario Se practica como deben actuar al estar sirviendo en el altar\, durante la santa misa. \nReuniones generales\, Martes en el sótano de la rectoría\, de 6:00 PM a 8:00 PM. La dinámica de reuniones: Oración\, actualmente reflexionando sobre el libro “El Secreto de Maria\, entre otros\, y vemos asuntos relacionados su el ministerio.
URL:https://oloadsm.com/event/grupo-de-mujeres/2023-05-02/
LOCATION:Sótano de la Rectoría\, 1271 E 9th St. Des Moines\, IA 50316\, Des Moines\, United States
CATEGORIES:Ministerios
END:VEVENT
BEGIN:VEVENT
DTSTART;TZID=UTC:20230503T190000
DTEND;TZID=UTC:20230503T210000
DTSTAMP:20260422T152346
CREATED:20230404T153133Z
LAST-MODIFIED:20230404T153133Z
UID:10005929-1683140400-1683147600@oloadsm.com
SUMMARY:Biblia
DESCRIPTION:
URL:https://oloadsm.com/event/biblia-2/2023-05-03/
LOCATION:Salón San Juan Pablo II-Rectoría\, 1271 E 9th St. Des Moines\, IA 50316\, Des Moines\, United States
CATEGORIES:Ministerios
END:VEVENT
BEGIN:VEVENT
DTSTART;TZID=UTC:20230504T180000
DTEND;TZID=UTC:20230504T200000
DTSTAMP:20260422T152346
CREATED:20230424T161744Z
LAST-MODIFIED:20230424T163017Z
UID:10006714-1683223200-1683230400@oloadsm.com
SUMMARY:Grupo de Jóvenes
DESCRIPTION:
URL:https://oloadsm.com/event/grupo-de-jovenes/2023-05-04/
LOCATION:Sótano templo\, 1271 E 9th St. Des Moines\, IA 50316\, Des Moines\, United States
CATEGORIES:Ministerios
END:VEVENT
BEGIN:VEVENT
DTSTART;TZID=UTC:20230504T190000
DTEND;TZID=UTC:20230504T200000
DTSTAMP:20260422T152346
CREATED:20230424T161618Z
LAST-MODIFIED:20230424T161618Z
UID:10006453-1683226800-1683230400@oloadsm.com
SUMMARY:Coros
DESCRIPTION:
URL:https://oloadsm.com/event/coros/2023-05-04/
LOCATION:Sótano de la Rectoría\, 1271 E 9th St. Des Moines\, IA 50316\, Des Moines\, United States
CATEGORIES:Ministerios
END:VEVENT
BEGIN:VEVENT
DTSTART;TZID=UTC:20230505T190000
DTEND;TZID=UTC:20230505T213000
DTSTAMP:20260422T152346
CREATED:20230404T152418Z
LAST-MODIFIED:20230404T153028Z
UID:10005407-1683313200-1683322200@oloadsm.com
SUMMARY:Biblia
DESCRIPTION:
URL:https://oloadsm.com/event/biblia/2023-05-05/
LOCATION:Sótano templo\, 1271 E 9th St. Des Moines\, IA 50316\, Des Moines\, United States
CATEGORIES:Ministerios
END:VEVENT
BEGIN:VEVENT
DTSTART;TZID=UTC:20230506T090000
DTEND;TZID=UTC:20230506T110000
DTSTAMP:20260422T152346
CREATED:20230424T163140Z
LAST-MODIFIED:20230518T204739Z
UID:10007761-1683363600-1683370800@oloadsm.com
SUMMARY:Monaguillos
DESCRIPTION:Se reúnen el segundo Sábado de mes\, de 9:00 AM a 11:00 AM en el templo Las reuniones inician con el rezo a la Divina Misericordia o el rezo del Santo Rosario Se practica como deben actuar al estar sirviendo en el altar\, durante la santa misa. \nGuia de estudio del libro “Curso para formación de monaguillos” el cual contiene citas bíblicas para reflexionar y como ser cada vez un mejor monaguillo. Al mismo tiempo también tenemos practicas y actividades recreativas.
URL:https://oloadsm.com/event/monaguillos/2023-05-06/
LOCATION:Templo\, 1271 E 9th St. Des Moines\, IA 50316\, Des Moines\, United States
CATEGORIES:Ministerios
END:VEVENT
BEGIN:VEVENT
DTSTART;TZID=UTC:20230508T190000
DTEND;TZID=UTC:20230508T200000
DTSTAMP:20260422T152346
CREATED:20230424T162309Z
LAST-MODIFIED:20230424T162830Z
UID:10007500-1683572400-1683576000@oloadsm.com
SUMMARY:Grupo de Oración Crecimiento
DESCRIPTION:
URL:https://oloadsm.com/event/grupo-de-oracion-crecimiento/2023-05-08/
LOCATION:Sótano templo\, 1271 E 9th St. Des Moines\, IA 50316\, Des Moines\, United States
CATEGORIES:Ministerios
END:VEVENT
BEGIN:VEVENT
DTSTART;TZID=UTC:20230508T193000
DTEND;TZID=UTC:20230508T210000
DTSTAMP:20260422T152346
CREATED:20230424T162506Z
LAST-MODIFIED:20230424T162924Z
UID:10007238-1683574200-1683579600@oloadsm.com
SUMMARY:Grupo de Oración Asamblea
DESCRIPTION:
URL:https://oloadsm.com/event/grupo-de-oracion-asamblea/2023-05-08/
LOCATION:Sótano templo\, 1271 E 9th St. Des Moines\, IA 50316\, Des Moines\, United States
CATEGORIES:Ministerios
END:VEVENT
BEGIN:VEVENT
DTSTART;TZID=UTC:20230509T180000
DTEND;TZID=UTC:20230509T200000
DTSTAMP:20260422T152346
CREATED:20230424T152030Z
LAST-MODIFIED:20230517T203709Z
UID:10006193-1683655200-1683662400@oloadsm.com
SUMMARY:Grupo de Mujeres
DESCRIPTION:Se reúnen el segundo Sábado de mes\, de 9:00 AM a 11:00 AM en el templo Las reuniones inician con el rezo a la Divina Misericordia o el rezo del Santo Rosario Se practica como deben actuar al estar sirviendo en el altar\, durante la santa misa. \nReuniones generales\, Martes en el sótano de la rectoría\, de 6:00 PM a 8:00 PM. La dinámica de reuniones: Oración\, actualmente reflexionando sobre el libro “El Secreto de Maria\, entre otros\, y vemos asuntos relacionados su el ministerio.
URL:https://oloadsm.com/event/grupo-de-mujeres/2023-05-09/
LOCATION:Sótano de la Rectoría\, 1271 E 9th St. Des Moines\, IA 50316\, Des Moines\, United States
CATEGORIES:Ministerios
END:VEVENT
BEGIN:VEVENT
DTSTART;TZID=UTC:20230510T190000
DTEND;TZID=UTC:20230510T210000
DTSTAMP:20260422T152346
CREATED:20230404T153133Z
LAST-MODIFIED:20230404T153133Z
UID:10005930-1683745200-1683752400@oloadsm.com
SUMMARY:Biblia
DESCRIPTION:
URL:https://oloadsm.com/event/biblia-2/2023-05-10/
LOCATION:Salón San Juan Pablo II-Rectoría\, 1271 E 9th St. Des Moines\, IA 50316\, Des Moines\, United States
CATEGORIES:Ministerios
END:VEVENT
BEGIN:VEVENT
DTSTART;TZID=UTC:20230511T180000
DTEND;TZID=UTC:20230511T200000
DTSTAMP:20260422T152346
CREATED:20230424T161744Z
LAST-MODIFIED:20230424T163017Z
UID:10006715-1683828000-1683835200@oloadsm.com
SUMMARY:Grupo de Jóvenes
DESCRIPTION:
URL:https://oloadsm.com/event/grupo-de-jovenes/2023-05-11/
LOCATION:Sótano templo\, 1271 E 9th St. Des Moines\, IA 50316\, Des Moines\, United States
CATEGORIES:Ministerios
END:VEVENT
BEGIN:VEVENT
DTSTART;TZID=UTC:20230511T190000
DTEND;TZID=UTC:20230511T200000
DTSTAMP:20260422T152346
CREATED:20230424T161618Z
LAST-MODIFIED:20230424T161618Z
UID:10006454-1683831600-1683835200@oloadsm.com
SUMMARY:Coros
DESCRIPTION:
URL:https://oloadsm.com/event/coros/2023-05-11/
LOCATION:Sótano de la Rectoría\, 1271 E 9th St. Des Moines\, IA 50316\, Des Moines\, United States
CATEGORIES:Ministerios
END:VEVENT
BEGIN:VEVENT
DTSTART;TZID=UTC:20230512T190000
DTEND;TZID=UTC:20230512T213000
DTSTAMP:20260422T152346
CREATED:20230404T152418Z
LAST-MODIFIED:20230404T153028Z
UID:10005408-1683918000-1683927000@oloadsm.com
SUMMARY:Biblia
DESCRIPTION:
URL:https://oloadsm.com/event/biblia/2023-05-12/
LOCATION:Sótano templo\, 1271 E 9th St. Des Moines\, IA 50316\, Des Moines\, United States
CATEGORIES:Ministerios
END:VEVENT
BEGIN:VEVENT
DTSTART;TZID=UTC:20230513T090000
DTEND;TZID=UTC:20230513T110000
DTSTAMP:20260422T152346
CREATED:20230424T163140Z
LAST-MODIFIED:20230518T204739Z
UID:10007762-1683968400-1683975600@oloadsm.com
SUMMARY:Monaguillos
DESCRIPTION:Se reúnen el segundo Sábado de mes\, de 9:00 AM a 11:00 AM en el templo Las reuniones inician con el rezo a la Divina Misericordia o el rezo del Santo Rosario Se practica como deben actuar al estar sirviendo en el altar\, durante la santa misa. \nGuia de estudio del libro “Curso para formación de monaguillos” el cual contiene citas bíblicas para reflexionar y como ser cada vez un mejor monaguillo. Al mismo tiempo también tenemos practicas y actividades recreativas.
URL:https://oloadsm.com/event/monaguillos/2023-05-13/
LOCATION:Templo\, 1271 E 9th St. Des Moines\, IA 50316\, Des Moines\, United States
CATEGORIES:Ministerios
END:VEVENT
BEGIN:VEVENT
DTSTART;TZID=UTC:20230515T190000
DTEND;TZID=UTC:20230515T200000
DTSTAMP:20260422T152346
CREATED:20230424T162309Z
LAST-MODIFIED:20230424T162830Z
UID:10007501-1684177200-1684180800@oloadsm.com
SUMMARY:Grupo de Oración Crecimiento
DESCRIPTION:
URL:https://oloadsm.com/event/grupo-de-oracion-crecimiento/2023-05-15/
LOCATION:Sótano templo\, 1271 E 9th St. Des Moines\, IA 50316\, Des Moines\, United States
CATEGORIES:Ministerios
END:VEVENT
BEGIN:VEVENT
DTSTART;TZID=UTC:20230515T193000
DTEND;TZID=UTC:20230515T210000
DTSTAMP:20260422T152346
CREATED:20230424T162506Z
LAST-MODIFIED:20230424T162924Z
UID:10007239-1684179000-1684184400@oloadsm.com
SUMMARY:Grupo de Oración Asamblea
DESCRIPTION:
URL:https://oloadsm.com/event/grupo-de-oracion-asamblea/2023-05-15/
LOCATION:Sótano templo\, 1271 E 9th St. Des Moines\, IA 50316\, Des Moines\, United States
CATEGORIES:Ministerios
END:VEVENT
BEGIN:VEVENT
DTSTART;TZID=UTC:20230516T180000
DTEND;TZID=UTC:20230516T200000
DTSTAMP:20260422T152346
CREATED:20230424T152030Z
LAST-MODIFIED:20230517T203709Z
UID:10006194-1684260000-1684267200@oloadsm.com
SUMMARY:Grupo de Mujeres
DESCRIPTION:Se reúnen el segundo Sábado de mes\, de 9:00 AM a 11:00 AM en el templo Las reuniones inician con el rezo a la Divina Misericordia o el rezo del Santo Rosario Se practica como deben actuar al estar sirviendo en el altar\, durante la santa misa. \nReuniones generales\, Martes en el sótano de la rectoría\, de 6:00 PM a 8:00 PM. La dinámica de reuniones: Oración\, actualmente reflexionando sobre el libro “El Secreto de Maria\, entre otros\, y vemos asuntos relacionados su el ministerio.
URL:https://oloadsm.com/event/grupo-de-mujeres/2023-05-16/
LOCATION:Sótano de la Rectoría\, 1271 E 9th St. Des Moines\, IA 50316\, Des Moines\, United States
CATEGORIES:Ministerios
END:VEVENT
BEGIN:VEVENT
DTSTART;TZID=UTC:20230517T190000
DTEND;TZID=UTC:20230517T210000
DTSTAMP:20260422T152346
CREATED:20230404T153133Z
LAST-MODIFIED:20230404T153133Z
UID:10005931-1684350000-1684357200@oloadsm.com
SUMMARY:Biblia
DESCRIPTION:
URL:https://oloadsm.com/event/biblia-2/2023-05-17/
LOCATION:Salón San Juan Pablo II-Rectoría\, 1271 E 9th St. Des Moines\, IA 50316\, Des Moines\, United States
CATEGORIES:Ministerios
END:VEVENT
BEGIN:VEVENT
DTSTART;TZID=UTC:20230518T180000
DTEND;TZID=UTC:20230518T200000
DTSTAMP:20260422T152346
CREATED:20230424T161744Z
LAST-MODIFIED:20230424T163017Z
UID:10006716-1684432800-1684440000@oloadsm.com
SUMMARY:Grupo de Jóvenes
DESCRIPTION:
URL:https://oloadsm.com/event/grupo-de-jovenes/2023-05-18/
LOCATION:Sótano templo\, 1271 E 9th St. Des Moines\, IA 50316\, Des Moines\, United States
CATEGORIES:Ministerios
END:VEVENT
BEGIN:VEVENT
DTSTART;TZID=UTC:20230518T190000
DTEND;TZID=UTC:20230518T200000
DTSTAMP:20260422T152346
CREATED:20230424T161618Z
LAST-MODIFIED:20230424T161618Z
UID:10006455-1684436400-1684440000@oloadsm.com
SUMMARY:Coros
DESCRIPTION:
URL:https://oloadsm.com/event/coros/2023-05-18/
LOCATION:Sótano de la Rectoría\, 1271 E 9th St. Des Moines\, IA 50316\, Des Moines\, United States
CATEGORIES:Ministerios
END:VEVENT
BEGIN:VEVENT
DTSTART;TZID=UTC:20230519T190000
DTEND;TZID=UTC:20230519T213000
DTSTAMP:20260422T152346
CREATED:20230404T152418Z
LAST-MODIFIED:20230404T153028Z
UID:10005409-1684522800-1684531800@oloadsm.com
SUMMARY:Biblia
DESCRIPTION:
URL:https://oloadsm.com/event/biblia/2023-05-19/
LOCATION:Sótano templo\, 1271 E 9th St. Des Moines\, IA 50316\, Des Moines\, United States
CATEGORIES:Ministerios
END:VEVENT
BEGIN:VEVENT
DTSTART;TZID=UTC:20230520T090000
DTEND;TZID=UTC:20230520T110000
DTSTAMP:20260422T152346
CREATED:20230424T163140Z
LAST-MODIFIED:20230518T204739Z
UID:10007763-1684573200-1684580400@oloadsm.com
SUMMARY:Monaguillos
DESCRIPTION:Se reúnen el segundo Sábado de mes\, de 9:00 AM a 11:00 AM en el templo Las reuniones inician con el rezo a la Divina Misericordia o el rezo del Santo Rosario Se practica como deben actuar al estar sirviendo en el altar\, durante la santa misa. \nGuia de estudio del libro “Curso para formación de monaguillos” el cual contiene citas bíblicas para reflexionar y como ser cada vez un mejor monaguillo. Al mismo tiempo también tenemos practicas y actividades recreativas.
URL:https://oloadsm.com/event/monaguillos/2023-05-20/
LOCATION:Templo\, 1271 E 9th St. Des Moines\, IA 50316\, Des Moines\, United States
CATEGORIES:Ministerios
END:VEVENT
BEGIN:VEVENT
DTSTART;TZID=UTC:20230522T183000
DTEND;TZID=UTC:20230522T203000
DTSTAMP:20260422T152346
CREATED:20230404T153753Z
LAST-MODIFIED:20230404T154702Z
UID:10006188-1684780200-1684787400@oloadsm.com
SUMMARY:Ministros
DESCRIPTION:
URL:https://oloadsm.com/event/ministros/2023-05-22/
LOCATION:Salón Santa María-Rectoría\, 1271 E 9th St. Des Moines\, IA 50316\, Des Moines\, United States
CATEGORIES:Ministerios
END:VEVENT
BEGIN:VEVENT
DTSTART;TZID=UTC:20230522T190000
DTEND;TZID=UTC:20230522T200000
DTSTAMP:20260422T152346
CREATED:20230424T162309Z
LAST-MODIFIED:20230424T162830Z
UID:10007502-1684782000-1684785600@oloadsm.com
SUMMARY:Grupo de Oración Crecimiento
DESCRIPTION:
URL:https://oloadsm.com/event/grupo-de-oracion-crecimiento/2023-05-22/
LOCATION:Sótano templo\, 1271 E 9th St. Des Moines\, IA 50316\, Des Moines\, United States
CATEGORIES:Ministerios
END:VEVENT
BEGIN:VEVENT
DTSTART;TZID=UTC:20230522T193000
DTEND;TZID=UTC:20230522T210000
DTSTAMP:20260422T152346
CREATED:20230424T162506Z
LAST-MODIFIED:20230424T162924Z
UID:10007240-1684783800-1684789200@oloadsm.com
SUMMARY:Grupo de Oración Asamblea
DESCRIPTION:
URL:https://oloadsm.com/event/grupo-de-oracion-asamblea/2023-05-22/
LOCATION:Sótano templo\, 1271 E 9th St. Des Moines\, IA 50316\, Des Moines\, United States
CATEGORIES:Ministerios
END:VEVENT
BEGIN:VEVENT
DTSTART;TZID=UTC:20230523T180000
DTEND;TZID=UTC:20230523T200000
DTSTAMP:20260422T152346
CREATED:20230424T152030Z
LAST-MODIFIED:20230517T203709Z
UID:10006195-1684864800-1684872000@oloadsm.com
SUMMARY:Grupo de Mujeres
DESCRIPTION:Se reúnen el segundo Sábado de mes\, de 9:00 AM a 11:00 AM en el templo Las reuniones inician con el rezo a la Divina Misericordia o el rezo del Santo Rosario Se practica como deben actuar al estar sirviendo en el altar\, durante la santa misa. \nReuniones generales\, Martes en el sótano de la rectoría\, de 6:00 PM a 8:00 PM. La dinámica de reuniones: Oración\, actualmente reflexionando sobre el libro “El Secreto de Maria\, entre otros\, y vemos asuntos relacionados su el ministerio.
URL:https://oloadsm.com/event/grupo-de-mujeres/2023-05-23/
LOCATION:Sótano de la Rectoría\, 1271 E 9th St. Des Moines\, IA 50316\, Des Moines\, United States
CATEGORIES:Ministerios
END:VEVENT
BEGIN:VEVENT
DTSTART;TZID=UTC:20230524T190000
DTEND;TZID=UTC:20230524T210000
DTSTAMP:20260422T152346
CREATED:20230404T153133Z
LAST-MODIFIED:20230404T153133Z
UID:10005932-1684954800-1684962000@oloadsm.com
SUMMARY:Biblia
DESCRIPTION:
URL:https://oloadsm.com/event/biblia-2/2023-05-24/
LOCATION:Salón San Juan Pablo II-Rectoría\, 1271 E 9th St. Des Moines\, IA 50316\, Des Moines\, United States
CATEGORIES:Ministerios
END:VEVENT
BEGIN:VEVENT
DTSTART;TZID=UTC:20230525T180000
DTEND;TZID=UTC:20230525T200000
DTSTAMP:20260422T152346
CREATED:20230424T161744Z
LAST-MODIFIED:20230424T163017Z
UID:10006717-1685037600-1685044800@oloadsm.com
SUMMARY:Grupo de Jóvenes
DESCRIPTION:
URL:https://oloadsm.com/event/grupo-de-jovenes/2023-05-25/
LOCATION:Sótano templo\, 1271 E 9th St. Des Moines\, IA 50316\, Des Moines\, United States
CATEGORIES:Ministerios
END:VEVENT
END:VCALENDAR