BEGIN:VCALENDAR
VERSION:2.0
PRODID:-//OLOA - ECPv6.0.13.1//NONSGML v1.0//EN
CALSCALE:GREGORIAN
METHOD:PUBLISH
X-ORIGINAL-URL:https://oloadsm.com
X-WR-CALDESC:Eventos para OLOA
REFRESH-INTERVAL;VALUE=DURATION:PT1H
X-Robots-Tag:noindex
X-PUBLISHED-TTL:PT1H
BEGIN:VTIMEZONE
TZID:UTC
BEGIN:STANDARD
TZOFFSETFROM:+0000
TZOFFSETTO:+0000
TZNAME:UTC
DTSTART:20230101T000000
END:STANDARD
END:VTIMEZONE
BEGIN:VEVENT
DTSTART;TZID=UTC:20230601T180000
DTEND;TZID=UTC:20230601T200000
DTSTAMP:20260422T134831
CREATED:20230424T161744Z
LAST-MODIFIED:20230424T163017Z
UID:10006718-1685642400-1685649600@oloadsm.com
SUMMARY:Grupo de Jóvenes
DESCRIPTION:
URL:https://oloadsm.com/event/grupo-de-jovenes/2023-06-01/
LOCATION:Sótano templo\, 1271 E 9th St. Des Moines\, IA 50316\, Des Moines\, United States
CATEGORIES:Ministerios
END:VEVENT
BEGIN:VEVENT
DTSTART;TZID=UTC:20230601T190000
DTEND;TZID=UTC:20230601T200000
DTSTAMP:20260422T134831
CREATED:20230424T161618Z
LAST-MODIFIED:20230424T161618Z
UID:10006457-1685646000-1685649600@oloadsm.com
SUMMARY:Coros
DESCRIPTION:
URL:https://oloadsm.com/event/coros/2023-06-01/
LOCATION:Sótano de la Rectoría\, 1271 E 9th St. Des Moines\, IA 50316\, Des Moines\, United States
CATEGORIES:Ministerios
END:VEVENT
BEGIN:VEVENT
DTSTART;TZID=UTC:20230602T190000
DTEND;TZID=UTC:20230602T213000
DTSTAMP:20260422T134831
CREATED:20230404T152418Z
LAST-MODIFIED:20230404T153028Z
UID:10005411-1685732400-1685741400@oloadsm.com
SUMMARY:Biblia
DESCRIPTION:
URL:https://oloadsm.com/event/biblia/2023-06-02/
LOCATION:Sótano templo\, 1271 E 9th St. Des Moines\, IA 50316\, Des Moines\, United States
CATEGORIES:Ministerios
END:VEVENT
BEGIN:VEVENT
DTSTART;TZID=UTC:20230603T090000
DTEND;TZID=UTC:20230603T110000
DTSTAMP:20260422T134831
CREATED:20230424T163140Z
LAST-MODIFIED:20230518T204739Z
UID:10007765-1685782800-1685790000@oloadsm.com
SUMMARY:Monaguillos
DESCRIPTION:Se reúnen el segundo Sábado de mes\, de 9:00 AM a 11:00 AM en el templo Las reuniones inician con el rezo a la Divina Misericordia o el rezo del Santo Rosario Se practica como deben actuar al estar sirviendo en el altar\, durante la santa misa. \nGuia de estudio del libro “Curso para formación de monaguillos” el cual contiene citas bíblicas para reflexionar y como ser cada vez un mejor monaguillo. Al mismo tiempo también tenemos practicas y actividades recreativas.
URL:https://oloadsm.com/event/monaguillos/2023-06-03/
LOCATION:Templo\, 1271 E 9th St. Des Moines\, IA 50316\, Des Moines\, United States
CATEGORIES:Ministerios
END:VEVENT
BEGIN:VEVENT
DTSTART;TZID=UTC:20230605T190000
DTEND;TZID=UTC:20230605T200000
DTSTAMP:20260422T134831
CREATED:20230424T162309Z
LAST-MODIFIED:20230424T162830Z
UID:10007504-1685991600-1685995200@oloadsm.com
SUMMARY:Grupo de Oración Crecimiento
DESCRIPTION:
URL:https://oloadsm.com/event/grupo-de-oracion-crecimiento/2023-06-05/
LOCATION:Sótano templo\, 1271 E 9th St. Des Moines\, IA 50316\, Des Moines\, United States
CATEGORIES:Ministerios
END:VEVENT
BEGIN:VEVENT
DTSTART;TZID=UTC:20230605T193000
DTEND;TZID=UTC:20230605T210000
DTSTAMP:20260422T134831
CREATED:20230424T162506Z
LAST-MODIFIED:20230424T162924Z
UID:10007242-1685993400-1685998800@oloadsm.com
SUMMARY:Grupo de Oración Asamblea
DESCRIPTION:
URL:https://oloadsm.com/event/grupo-de-oracion-asamblea/2023-06-05/
LOCATION:Sótano templo\, 1271 E 9th St. Des Moines\, IA 50316\, Des Moines\, United States
CATEGORIES:Ministerios
END:VEVENT
BEGIN:VEVENT
DTSTART;TZID=UTC:20230606T180000
DTEND;TZID=UTC:20230606T200000
DTSTAMP:20260422T134831
CREATED:20230424T152030Z
LAST-MODIFIED:20230517T203709Z
UID:10006197-1686074400-1686081600@oloadsm.com
SUMMARY:Grupo de Mujeres
DESCRIPTION:Se reúnen el segundo Sábado de mes\, de 9:00 AM a 11:00 AM en el templo Las reuniones inician con el rezo a la Divina Misericordia o el rezo del Santo Rosario Se practica como deben actuar al estar sirviendo en el altar\, durante la santa misa. \nReuniones generales\, Martes en el sótano de la rectoría\, de 6:00 PM a 8:00 PM. La dinámica de reuniones: Oración\, actualmente reflexionando sobre el libro “El Secreto de Maria\, entre otros\, y vemos asuntos relacionados su el ministerio.
URL:https://oloadsm.com/event/grupo-de-mujeres/2023-06-06/
LOCATION:Sótano de la Rectoría\, 1271 E 9th St. Des Moines\, IA 50316\, Des Moines\, United States
CATEGORIES:Ministerios
END:VEVENT
BEGIN:VEVENT
DTSTART;TZID=UTC:20230607T190000
DTEND;TZID=UTC:20230607T210000
DTSTAMP:20260422T134831
CREATED:20230404T153133Z
LAST-MODIFIED:20230404T153133Z
UID:10005934-1686164400-1686171600@oloadsm.com
SUMMARY:Biblia
DESCRIPTION:
URL:https://oloadsm.com/event/biblia-2/2023-06-07/
LOCATION:Salón San Juan Pablo II-Rectoría\, 1271 E 9th St. Des Moines\, IA 50316\, Des Moines\, United States
CATEGORIES:Ministerios
END:VEVENT
BEGIN:VEVENT
DTSTART;TZID=UTC:20230608T180000
DTEND;TZID=UTC:20230608T200000
DTSTAMP:20260422T134831
CREATED:20230424T161744Z
LAST-MODIFIED:20230424T163017Z
UID:10006719-1686247200-1686254400@oloadsm.com
SUMMARY:Grupo de Jóvenes
DESCRIPTION:
URL:https://oloadsm.com/event/grupo-de-jovenes/2023-06-08/
LOCATION:Sótano templo\, 1271 E 9th St. Des Moines\, IA 50316\, Des Moines\, United States
CATEGORIES:Ministerios
END:VEVENT
BEGIN:VEVENT
DTSTART;TZID=UTC:20230608T190000
DTEND;TZID=UTC:20230608T200000
DTSTAMP:20260422T134831
CREATED:20230424T161618Z
LAST-MODIFIED:20230424T161618Z
UID:10006458-1686250800-1686254400@oloadsm.com
SUMMARY:Coros
DESCRIPTION:
URL:https://oloadsm.com/event/coros/2023-06-08/
LOCATION:Sótano de la Rectoría\, 1271 E 9th St. Des Moines\, IA 50316\, Des Moines\, United States
CATEGORIES:Ministerios
END:VEVENT
BEGIN:VEVENT
DTSTART;TZID=UTC:20230609T190000
DTEND;TZID=UTC:20230609T213000
DTSTAMP:20260422T134831
CREATED:20230404T152418Z
LAST-MODIFIED:20230404T153028Z
UID:10005412-1686337200-1686346200@oloadsm.com
SUMMARY:Biblia
DESCRIPTION:
URL:https://oloadsm.com/event/biblia/2023-06-09/
LOCATION:Sótano templo\, 1271 E 9th St. Des Moines\, IA 50316\, Des Moines\, United States
CATEGORIES:Ministerios
END:VEVENT
BEGIN:VEVENT
DTSTART;TZID=UTC:20230610T090000
DTEND;TZID=UTC:20230610T110000
DTSTAMP:20260422T134831
CREATED:20230424T163140Z
LAST-MODIFIED:20230518T204739Z
UID:10007766-1686387600-1686394800@oloadsm.com
SUMMARY:Monaguillos
DESCRIPTION:Se reúnen el segundo Sábado de mes\, de 9:00 AM a 11:00 AM en el templo Las reuniones inician con el rezo a la Divina Misericordia o el rezo del Santo Rosario Se practica como deben actuar al estar sirviendo en el altar\, durante la santa misa. \nGuia de estudio del libro “Curso para formación de monaguillos” el cual contiene citas bíblicas para reflexionar y como ser cada vez un mejor monaguillo. Al mismo tiempo también tenemos practicas y actividades recreativas.
URL:https://oloadsm.com/event/monaguillos/2023-06-10/
LOCATION:Templo\, 1271 E 9th St. Des Moines\, IA 50316\, Des Moines\, United States
CATEGORIES:Ministerios
END:VEVENT
BEGIN:VEVENT
DTSTART;TZID=UTC:20230612T190000
DTEND;TZID=UTC:20230612T200000
DTSTAMP:20260422T134831
CREATED:20230424T162309Z
LAST-MODIFIED:20230424T162830Z
UID:10007505-1686596400-1686600000@oloadsm.com
SUMMARY:Grupo de Oración Crecimiento
DESCRIPTION:
URL:https://oloadsm.com/event/grupo-de-oracion-crecimiento/2023-06-12/
LOCATION:Sótano templo\, 1271 E 9th St. Des Moines\, IA 50316\, Des Moines\, United States
CATEGORIES:Ministerios
END:VEVENT
BEGIN:VEVENT
DTSTART;TZID=UTC:20230612T193000
DTEND;TZID=UTC:20230612T210000
DTSTAMP:20260422T134831
CREATED:20230424T162506Z
LAST-MODIFIED:20230424T162924Z
UID:10007243-1686598200-1686603600@oloadsm.com
SUMMARY:Grupo de Oración Asamblea
DESCRIPTION:
URL:https://oloadsm.com/event/grupo-de-oracion-asamblea/2023-06-12/
LOCATION:Sótano templo\, 1271 E 9th St. Des Moines\, IA 50316\, Des Moines\, United States
CATEGORIES:Ministerios
END:VEVENT
BEGIN:VEVENT
DTSTART;TZID=UTC:20230613T180000
DTEND;TZID=UTC:20230613T200000
DTSTAMP:20260422T134831
CREATED:20230424T152030Z
LAST-MODIFIED:20230517T203709Z
UID:10006198-1686679200-1686686400@oloadsm.com
SUMMARY:Grupo de Mujeres
DESCRIPTION:Se reúnen el segundo Sábado de mes\, de 9:00 AM a 11:00 AM en el templo Las reuniones inician con el rezo a la Divina Misericordia o el rezo del Santo Rosario Se practica como deben actuar al estar sirviendo en el altar\, durante la santa misa. \nReuniones generales\, Martes en el sótano de la rectoría\, de 6:00 PM a 8:00 PM. La dinámica de reuniones: Oración\, actualmente reflexionando sobre el libro “El Secreto de Maria\, entre otros\, y vemos asuntos relacionados su el ministerio.
URL:https://oloadsm.com/event/grupo-de-mujeres/2023-06-13/
LOCATION:Sótano de la Rectoría\, 1271 E 9th St. Des Moines\, IA 50316\, Des Moines\, United States
CATEGORIES:Ministerios
END:VEVENT
BEGIN:VEVENT
DTSTART;TZID=UTC:20230614T190000
DTEND;TZID=UTC:20230614T210000
DTSTAMP:20260422T134831
CREATED:20230404T153133Z
LAST-MODIFIED:20230404T153133Z
UID:10005935-1686769200-1686776400@oloadsm.com
SUMMARY:Biblia
DESCRIPTION:
URL:https://oloadsm.com/event/biblia-2/2023-06-14/
LOCATION:Salón San Juan Pablo II-Rectoría\, 1271 E 9th St. Des Moines\, IA 50316\, Des Moines\, United States
CATEGORIES:Ministerios
END:VEVENT
BEGIN:VEVENT
DTSTART;TZID=UTC:20230615T180000
DTEND;TZID=UTC:20230615T200000
DTSTAMP:20260422T134831
CREATED:20230424T161744Z
LAST-MODIFIED:20230424T163017Z
UID:10006720-1686852000-1686859200@oloadsm.com
SUMMARY:Grupo de Jóvenes
DESCRIPTION:
URL:https://oloadsm.com/event/grupo-de-jovenes/2023-06-15/
LOCATION:Sótano templo\, 1271 E 9th St. Des Moines\, IA 50316\, Des Moines\, United States
CATEGORIES:Ministerios
END:VEVENT
BEGIN:VEVENT
DTSTART;TZID=UTC:20230615T190000
DTEND;TZID=UTC:20230615T200000
DTSTAMP:20260422T134831
CREATED:20230424T161618Z
LAST-MODIFIED:20230424T161618Z
UID:10006459-1686855600-1686859200@oloadsm.com
SUMMARY:Coros
DESCRIPTION:
URL:https://oloadsm.com/event/coros/2023-06-15/
LOCATION:Sótano de la Rectoría\, 1271 E 9th St. Des Moines\, IA 50316\, Des Moines\, United States
CATEGORIES:Ministerios
END:VEVENT
BEGIN:VEVENT
DTSTART;TZID=UTC:20230616T190000
DTEND;TZID=UTC:20230616T213000
DTSTAMP:20260422T134831
CREATED:20230404T152418Z
LAST-MODIFIED:20230404T153028Z
UID:10005413-1686942000-1686951000@oloadsm.com
SUMMARY:Biblia
DESCRIPTION:
URL:https://oloadsm.com/event/biblia/2023-06-16/
LOCATION:Sótano templo\, 1271 E 9th St. Des Moines\, IA 50316\, Des Moines\, United States
CATEGORIES:Ministerios
END:VEVENT
BEGIN:VEVENT
DTSTART;TZID=UTC:20230617T090000
DTEND;TZID=UTC:20230617T110000
DTSTAMP:20260422T134831
CREATED:20230424T163140Z
LAST-MODIFIED:20230518T204739Z
UID:10007767-1686992400-1686999600@oloadsm.com
SUMMARY:Monaguillos
DESCRIPTION:Se reúnen el segundo Sábado de mes\, de 9:00 AM a 11:00 AM en el templo Las reuniones inician con el rezo a la Divina Misericordia o el rezo del Santo Rosario Se practica como deben actuar al estar sirviendo en el altar\, durante la santa misa. \nGuia de estudio del libro “Curso para formación de monaguillos” el cual contiene citas bíblicas para reflexionar y como ser cada vez un mejor monaguillo. Al mismo tiempo también tenemos practicas y actividades recreativas.
URL:https://oloadsm.com/event/monaguillos/2023-06-17/
LOCATION:Templo\, 1271 E 9th St. Des Moines\, IA 50316\, Des Moines\, United States
CATEGORIES:Ministerios
END:VEVENT
BEGIN:VEVENT
DTSTART;TZID=UTC:20230619T183000
DTEND;TZID=UTC:20230619T203000
DTSTAMP:20260422T134831
CREATED:20230404T153753Z
LAST-MODIFIED:20230404T154702Z
UID:10006189-1687199400-1687206600@oloadsm.com
SUMMARY:Ministros
DESCRIPTION:
URL:https://oloadsm.com/event/ministros/2023-06-19/
LOCATION:Salón Santa María-Rectoría\, 1271 E 9th St. Des Moines\, IA 50316\, Des Moines\, United States
CATEGORIES:Ministerios
END:VEVENT
BEGIN:VEVENT
DTSTART;TZID=UTC:20230619T190000
DTEND;TZID=UTC:20230619T200000
DTSTAMP:20260422T134831
CREATED:20230424T162309Z
LAST-MODIFIED:20230424T162830Z
UID:10007506-1687201200-1687204800@oloadsm.com
SUMMARY:Grupo de Oración Crecimiento
DESCRIPTION:
URL:https://oloadsm.com/event/grupo-de-oracion-crecimiento/2023-06-19/
LOCATION:Sótano templo\, 1271 E 9th St. Des Moines\, IA 50316\, Des Moines\, United States
CATEGORIES:Ministerios
END:VEVENT
BEGIN:VEVENT
DTSTART;TZID=UTC:20230619T193000
DTEND;TZID=UTC:20230619T210000
DTSTAMP:20260422T134831
CREATED:20230424T162506Z
LAST-MODIFIED:20230424T162924Z
UID:10007244-1687203000-1687208400@oloadsm.com
SUMMARY:Grupo de Oración Asamblea
DESCRIPTION:
URL:https://oloadsm.com/event/grupo-de-oracion-asamblea/2023-06-19/
LOCATION:Sótano templo\, 1271 E 9th St. Des Moines\, IA 50316\, Des Moines\, United States
CATEGORIES:Ministerios
END:VEVENT
BEGIN:VEVENT
DTSTART;TZID=UTC:20230620T180000
DTEND;TZID=UTC:20230620T200000
DTSTAMP:20260422T134831
CREATED:20230424T152030Z
LAST-MODIFIED:20230517T203709Z
UID:10006199-1687284000-1687291200@oloadsm.com
SUMMARY:Grupo de Mujeres
DESCRIPTION:Se reúnen el segundo Sábado de mes\, de 9:00 AM a 11:00 AM en el templo Las reuniones inician con el rezo a la Divina Misericordia o el rezo del Santo Rosario Se practica como deben actuar al estar sirviendo en el altar\, durante la santa misa. \nReuniones generales\, Martes en el sótano de la rectoría\, de 6:00 PM a 8:00 PM. La dinámica de reuniones: Oración\, actualmente reflexionando sobre el libro “El Secreto de Maria\, entre otros\, y vemos asuntos relacionados su el ministerio.
URL:https://oloadsm.com/event/grupo-de-mujeres/2023-06-20/
LOCATION:Sótano de la Rectoría\, 1271 E 9th St. Des Moines\, IA 50316\, Des Moines\, United States
CATEGORIES:Ministerios
END:VEVENT
BEGIN:VEVENT
DTSTART;TZID=UTC:20230621T190000
DTEND;TZID=UTC:20230621T210000
DTSTAMP:20260422T134831
CREATED:20230404T153133Z
LAST-MODIFIED:20230404T153133Z
UID:10005936-1687374000-1687381200@oloadsm.com
SUMMARY:Biblia
DESCRIPTION:
URL:https://oloadsm.com/event/biblia-2/2023-06-21/
LOCATION:Salón San Juan Pablo II-Rectoría\, 1271 E 9th St. Des Moines\, IA 50316\, Des Moines\, United States
CATEGORIES:Ministerios
END:VEVENT
BEGIN:VEVENT
DTSTART;TZID=UTC:20230622T180000
DTEND;TZID=UTC:20230622T200000
DTSTAMP:20260422T134831
CREATED:20230424T161744Z
LAST-MODIFIED:20230424T163017Z
UID:10006721-1687456800-1687464000@oloadsm.com
SUMMARY:Grupo de Jóvenes
DESCRIPTION:
URL:https://oloadsm.com/event/grupo-de-jovenes/2023-06-22/
LOCATION:Sótano templo\, 1271 E 9th St. Des Moines\, IA 50316\, Des Moines\, United States
CATEGORIES:Ministerios
END:VEVENT
BEGIN:VEVENT
DTSTART;TZID=UTC:20230622T190000
DTEND;TZID=UTC:20230622T200000
DTSTAMP:20260422T134831
CREATED:20230424T161618Z
LAST-MODIFIED:20230424T161618Z
UID:10006460-1687460400-1687464000@oloadsm.com
SUMMARY:Coros
DESCRIPTION:
URL:https://oloadsm.com/event/coros/2023-06-22/
LOCATION:Sótano de la Rectoría\, 1271 E 9th St. Des Moines\, IA 50316\, Des Moines\, United States
CATEGORIES:Ministerios
END:VEVENT
BEGIN:VEVENT
DTSTART;TZID=UTC:20230623T190000
DTEND;TZID=UTC:20230623T213000
DTSTAMP:20260422T134831
CREATED:20230404T152418Z
LAST-MODIFIED:20230404T153028Z
UID:10005414-1687546800-1687555800@oloadsm.com
SUMMARY:Biblia
DESCRIPTION:
URL:https://oloadsm.com/event/biblia/2023-06-23/
LOCATION:Sótano templo\, 1271 E 9th St. Des Moines\, IA 50316\, Des Moines\, United States
CATEGORIES:Ministerios
END:VEVENT
BEGIN:VEVENT
DTSTART;TZID=UTC:20230624T090000
DTEND;TZID=UTC:20230624T110000
DTSTAMP:20260422T134831
CREATED:20230424T163140Z
LAST-MODIFIED:20230518T204739Z
UID:10007768-1687597200-1687604400@oloadsm.com
SUMMARY:Monaguillos
DESCRIPTION:Se reúnen el segundo Sábado de mes\, de 9:00 AM a 11:00 AM en el templo Las reuniones inician con el rezo a la Divina Misericordia o el rezo del Santo Rosario Se practica como deben actuar al estar sirviendo en el altar\, durante la santa misa. \nGuia de estudio del libro “Curso para formación de monaguillos” el cual contiene citas bíblicas para reflexionar y como ser cada vez un mejor monaguillo. Al mismo tiempo también tenemos practicas y actividades recreativas.
URL:https://oloadsm.com/event/monaguillos/2023-06-24/
LOCATION:Templo\, 1271 E 9th St. Des Moines\, IA 50316\, Des Moines\, United States
CATEGORIES:Ministerios
END:VEVENT
BEGIN:VEVENT
DTSTART;TZID=UTC:20230626T190000
DTEND;TZID=UTC:20230626T200000
DTSTAMP:20260422T134831
CREATED:20230424T162309Z
LAST-MODIFIED:20230424T162830Z
UID:10007507-1687806000-1687809600@oloadsm.com
SUMMARY:Grupo de Oración Crecimiento
DESCRIPTION:
URL:https://oloadsm.com/event/grupo-de-oracion-crecimiento/2023-06-26/
LOCATION:Sótano templo\, 1271 E 9th St. Des Moines\, IA 50316\, Des Moines\, United States
CATEGORIES:Ministerios
END:VEVENT
END:VCALENDAR