BEGIN:VCALENDAR
VERSION:2.0
PRODID:-//OLOA - ECPv6.0.13.1//NONSGML v1.0//EN
CALSCALE:GREGORIAN
METHOD:PUBLISH
X-WR-CALNAME:OLOA
X-ORIGINAL-URL:https://oloadsm.com
X-WR-CALDESC:Eventos para OLOA
REFRESH-INTERVAL;VALUE=DURATION:PT1H
X-Robots-Tag:noindex
X-PUBLISHED-TTL:PT1H
BEGIN:VTIMEZONE
TZID:UTC
BEGIN:STANDARD
TZOFFSETFROM:+0000
TZOFFSETTO:+0000
TZNAME:UTC
DTSTART:20230101T000000
END:STANDARD
END:VTIMEZONE
BEGIN:VEVENT
DTSTART;TZID=UTC:20230801T180000
DTEND;TZID=UTC:20230801T200000
DTSTAMP:20260422T111825
CREATED:20230424T152030Z
LAST-MODIFIED:20230517T203709Z
UID:10006205-1690912800-1690920000@oloadsm.com
SUMMARY:Grupo de Mujeres
DESCRIPTION:Se reúnen el segundo Sábado de mes\, de 9:00 AM a 11:00 AM en el templo Las reuniones inician con el rezo a la Divina Misericordia o el rezo del Santo Rosario Se practica como deben actuar al estar sirviendo en el altar\, durante la santa misa. \nReuniones generales\, Martes en el sótano de la rectoría\, de 6:00 PM a 8:00 PM. La dinámica de reuniones: Oración\, actualmente reflexionando sobre el libro “El Secreto de Maria\, entre otros\, y vemos asuntos relacionados su el ministerio.
URL:https://oloadsm.com/event/grupo-de-mujeres/2023-08-01/
LOCATION:Sótano de la Rectoría\, 1271 E 9th St. Des Moines\, IA 50316\, Des Moines\, United States
CATEGORIES:Ministerios
END:VEVENT
BEGIN:VEVENT
DTSTART;TZID=UTC:20230802T190000
DTEND;TZID=UTC:20230802T210000
DTSTAMP:20260422T111825
CREATED:20230404T153133Z
LAST-MODIFIED:20230404T153133Z
UID:10005942-1691002800-1691010000@oloadsm.com
SUMMARY:Biblia
DESCRIPTION:
URL:https://oloadsm.com/event/biblia-2/2023-08-02/
LOCATION:Salón San Juan Pablo II-Rectoría\, 1271 E 9th St. Des Moines\, IA 50316\, Des Moines\, United States
CATEGORIES:Ministerios
END:VEVENT
BEGIN:VEVENT
DTSTART;TZID=UTC:20230803T180000
DTEND;TZID=UTC:20230803T200000
DTSTAMP:20260422T111825
CREATED:20230424T161744Z
LAST-MODIFIED:20230424T163017Z
UID:10006727-1691085600-1691092800@oloadsm.com
SUMMARY:Grupo de Jóvenes
DESCRIPTION:
URL:https://oloadsm.com/event/grupo-de-jovenes/2023-08-03/
LOCATION:Sótano templo\, 1271 E 9th St. Des Moines\, IA 50316\, Des Moines\, United States
CATEGORIES:Ministerios
END:VEVENT
BEGIN:VEVENT
DTSTART;TZID=UTC:20230803T190000
DTEND;TZID=UTC:20230803T200000
DTSTAMP:20260422T111825
CREATED:20230424T161618Z
LAST-MODIFIED:20230424T161618Z
UID:10006466-1691089200-1691092800@oloadsm.com
SUMMARY:Coros
DESCRIPTION:
URL:https://oloadsm.com/event/coros/2023-08-03/
LOCATION:Sótano de la Rectoría\, 1271 E 9th St. Des Moines\, IA 50316\, Des Moines\, United States
CATEGORIES:Ministerios
END:VEVENT
BEGIN:VEVENT
DTSTART;TZID=UTC:20230804T190000
DTEND;TZID=UTC:20230804T213000
DTSTAMP:20260422T111825
CREATED:20230404T152418Z
LAST-MODIFIED:20230404T153028Z
UID:10005420-1691175600-1691184600@oloadsm.com
SUMMARY:Biblia
DESCRIPTION:
URL:https://oloadsm.com/event/biblia/2023-08-04/
LOCATION:Sótano templo\, 1271 E 9th St. Des Moines\, IA 50316\, Des Moines\, United States
CATEGORIES:Ministerios
END:VEVENT
BEGIN:VEVENT
DTSTART;TZID=UTC:20230805T090000
DTEND;TZID=UTC:20230805T110000
DTSTAMP:20260422T111825
CREATED:20230424T163140Z
LAST-MODIFIED:20230518T204739Z
UID:10007774-1691226000-1691233200@oloadsm.com
SUMMARY:Monaguillos
DESCRIPTION:Se reúnen el segundo Sábado de mes\, de 9:00 AM a 11:00 AM en el templo Las reuniones inician con el rezo a la Divina Misericordia o el rezo del Santo Rosario Se practica como deben actuar al estar sirviendo en el altar\, durante la santa misa. \nGuia de estudio del libro “Curso para formación de monaguillos” el cual contiene citas bíblicas para reflexionar y como ser cada vez un mejor monaguillo. Al mismo tiempo también tenemos practicas y actividades recreativas.
URL:https://oloadsm.com/event/monaguillos/2023-08-05/
LOCATION:Templo\, 1271 E 9th St. Des Moines\, IA 50316\, Des Moines\, United States
CATEGORIES:Ministerios
END:VEVENT
BEGIN:VEVENT
DTSTART;TZID=UTC:20230807T190000
DTEND;TZID=UTC:20230807T200000
DTSTAMP:20260422T111825
CREATED:20230424T162309Z
LAST-MODIFIED:20230424T162830Z
UID:10007513-1691434800-1691438400@oloadsm.com
SUMMARY:Grupo de Oración Crecimiento
DESCRIPTION:
URL:https://oloadsm.com/event/grupo-de-oracion-crecimiento/2023-08-07/
LOCATION:Sótano templo\, 1271 E 9th St. Des Moines\, IA 50316\, Des Moines\, United States
CATEGORIES:Ministerios
END:VEVENT
BEGIN:VEVENT
DTSTART;TZID=UTC:20230807T193000
DTEND;TZID=UTC:20230807T210000
DTSTAMP:20260422T111825
CREATED:20230424T162506Z
LAST-MODIFIED:20230424T162924Z
UID:10007251-1691436600-1691442000@oloadsm.com
SUMMARY:Grupo de Oración Asamblea
DESCRIPTION:
URL:https://oloadsm.com/event/grupo-de-oracion-asamblea/2023-08-07/
LOCATION:Sótano templo\, 1271 E 9th St. Des Moines\, IA 50316\, Des Moines\, United States
CATEGORIES:Ministerios
END:VEVENT
BEGIN:VEVENT
DTSTART;TZID=UTC:20230808T180000
DTEND;TZID=UTC:20230808T200000
DTSTAMP:20260422T111825
CREATED:20230424T152030Z
LAST-MODIFIED:20230517T203709Z
UID:10006206-1691517600-1691524800@oloadsm.com
SUMMARY:Grupo de Mujeres
DESCRIPTION:Se reúnen el segundo Sábado de mes\, de 9:00 AM a 11:00 AM en el templo Las reuniones inician con el rezo a la Divina Misericordia o el rezo del Santo Rosario Se practica como deben actuar al estar sirviendo en el altar\, durante la santa misa. \nReuniones generales\, Martes en el sótano de la rectoría\, de 6:00 PM a 8:00 PM. La dinámica de reuniones: Oración\, actualmente reflexionando sobre el libro “El Secreto de Maria\, entre otros\, y vemos asuntos relacionados su el ministerio.
URL:https://oloadsm.com/event/grupo-de-mujeres/2023-08-08/
LOCATION:Sótano de la Rectoría\, 1271 E 9th St. Des Moines\, IA 50316\, Des Moines\, United States
CATEGORIES:Ministerios
END:VEVENT
BEGIN:VEVENT
DTSTART;TZID=UTC:20230809T190000
DTEND;TZID=UTC:20230809T210000
DTSTAMP:20260422T111825
CREATED:20230404T153133Z
LAST-MODIFIED:20230404T153133Z
UID:10005943-1691607600-1691614800@oloadsm.com
SUMMARY:Biblia
DESCRIPTION:
URL:https://oloadsm.com/event/biblia-2/2023-08-09/
LOCATION:Salón San Juan Pablo II-Rectoría\, 1271 E 9th St. Des Moines\, IA 50316\, Des Moines\, United States
CATEGORIES:Ministerios
END:VEVENT
BEGIN:VEVENT
DTSTART;TZID=UTC:20230810T180000
DTEND;TZID=UTC:20230810T200000
DTSTAMP:20260422T111825
CREATED:20230424T161744Z
LAST-MODIFIED:20230424T163017Z
UID:10006728-1691690400-1691697600@oloadsm.com
SUMMARY:Grupo de Jóvenes
DESCRIPTION:
URL:https://oloadsm.com/event/grupo-de-jovenes/2023-08-10/
LOCATION:Sótano templo\, 1271 E 9th St. Des Moines\, IA 50316\, Des Moines\, United States
CATEGORIES:Ministerios
END:VEVENT
BEGIN:VEVENT
DTSTART;TZID=UTC:20230810T190000
DTEND;TZID=UTC:20230810T200000
DTSTAMP:20260422T111825
CREATED:20230424T161618Z
LAST-MODIFIED:20230424T161618Z
UID:10006467-1691694000-1691697600@oloadsm.com
SUMMARY:Coros
DESCRIPTION:
URL:https://oloadsm.com/event/coros/2023-08-10/
LOCATION:Sótano de la Rectoría\, 1271 E 9th St. Des Moines\, IA 50316\, Des Moines\, United States
CATEGORIES:Ministerios
END:VEVENT
BEGIN:VEVENT
DTSTART;TZID=UTC:20230811T190000
DTEND;TZID=UTC:20230811T213000
DTSTAMP:20260422T111825
CREATED:20230404T152418Z
LAST-MODIFIED:20230404T153028Z
UID:10005421-1691780400-1691789400@oloadsm.com
SUMMARY:Biblia
DESCRIPTION:
URL:https://oloadsm.com/event/biblia/2023-08-11/
LOCATION:Sótano templo\, 1271 E 9th St. Des Moines\, IA 50316\, Des Moines\, United States
CATEGORIES:Ministerios
END:VEVENT
BEGIN:VEVENT
DTSTART;TZID=UTC:20230812T090000
DTEND;TZID=UTC:20230812T110000
DTSTAMP:20260422T111825
CREATED:20230424T163140Z
LAST-MODIFIED:20230518T204739Z
UID:10007775-1691830800-1691838000@oloadsm.com
SUMMARY:Monaguillos
DESCRIPTION:Se reúnen el segundo Sábado de mes\, de 9:00 AM a 11:00 AM en el templo Las reuniones inician con el rezo a la Divina Misericordia o el rezo del Santo Rosario Se practica como deben actuar al estar sirviendo en el altar\, durante la santa misa. \nGuia de estudio del libro “Curso para formación de monaguillos” el cual contiene citas bíblicas para reflexionar y como ser cada vez un mejor monaguillo. Al mismo tiempo también tenemos practicas y actividades recreativas.
URL:https://oloadsm.com/event/monaguillos/2023-08-12/
LOCATION:Templo\, 1271 E 9th St. Des Moines\, IA 50316\, Des Moines\, United States
CATEGORIES:Ministerios
END:VEVENT
BEGIN:VEVENT
DTSTART;TZID=UTC:20230814T190000
DTEND;TZID=UTC:20230814T200000
DTSTAMP:20260422T111825
CREATED:20230424T162309Z
LAST-MODIFIED:20230424T162830Z
UID:10007514-1692039600-1692043200@oloadsm.com
SUMMARY:Grupo de Oración Crecimiento
DESCRIPTION:
URL:https://oloadsm.com/event/grupo-de-oracion-crecimiento/2023-08-14/
LOCATION:Sótano templo\, 1271 E 9th St. Des Moines\, IA 50316\, Des Moines\, United States
CATEGORIES:Ministerios
END:VEVENT
BEGIN:VEVENT
DTSTART;TZID=UTC:20230814T193000
DTEND;TZID=UTC:20230814T210000
DTSTAMP:20260422T111825
CREATED:20230424T162506Z
LAST-MODIFIED:20230424T162924Z
UID:10007252-1692041400-1692046800@oloadsm.com
SUMMARY:Grupo de Oración Asamblea
DESCRIPTION:
URL:https://oloadsm.com/event/grupo-de-oracion-asamblea/2023-08-14/
LOCATION:Sótano templo\, 1271 E 9th St. Des Moines\, IA 50316\, Des Moines\, United States
CATEGORIES:Ministerios
END:VEVENT
BEGIN:VEVENT
DTSTART;TZID=UTC:20230815T180000
DTEND;TZID=UTC:20230815T200000
DTSTAMP:20260422T111825
CREATED:20230424T152030Z
LAST-MODIFIED:20230517T203709Z
UID:10006207-1692122400-1692129600@oloadsm.com
SUMMARY:Grupo de Mujeres
DESCRIPTION:Se reúnen el segundo Sábado de mes\, de 9:00 AM a 11:00 AM en el templo Las reuniones inician con el rezo a la Divina Misericordia o el rezo del Santo Rosario Se practica como deben actuar al estar sirviendo en el altar\, durante la santa misa. \nReuniones generales\, Martes en el sótano de la rectoría\, de 6:00 PM a 8:00 PM. La dinámica de reuniones: Oración\, actualmente reflexionando sobre el libro “El Secreto de Maria\, entre otros\, y vemos asuntos relacionados su el ministerio.
URL:https://oloadsm.com/event/grupo-de-mujeres/2023-08-15/
LOCATION:Sótano de la Rectoría\, 1271 E 9th St. Des Moines\, IA 50316\, Des Moines\, United States
CATEGORIES:Ministerios
END:VEVENT
BEGIN:VEVENT
DTSTART;TZID=UTC:20230816T190000
DTEND;TZID=UTC:20230816T210000
DTSTAMP:20260422T111825
CREATED:20230404T153133Z
LAST-MODIFIED:20230404T153133Z
UID:10005944-1692212400-1692219600@oloadsm.com
SUMMARY:Biblia
DESCRIPTION:
URL:https://oloadsm.com/event/biblia-2/2023-08-16/
LOCATION:Salón San Juan Pablo II-Rectoría\, 1271 E 9th St. Des Moines\, IA 50316\, Des Moines\, United States
CATEGORIES:Ministerios
END:VEVENT
BEGIN:VEVENT
DTSTART;TZID=UTC:20230817T180000
DTEND;TZID=UTC:20230817T200000
DTSTAMP:20260422T111825
CREATED:20230424T161744Z
LAST-MODIFIED:20230424T163017Z
UID:10006729-1692295200-1692302400@oloadsm.com
SUMMARY:Grupo de Jóvenes
DESCRIPTION:
URL:https://oloadsm.com/event/grupo-de-jovenes/2023-08-17/
LOCATION:Sótano templo\, 1271 E 9th St. Des Moines\, IA 50316\, Des Moines\, United States
CATEGORIES:Ministerios
END:VEVENT
BEGIN:VEVENT
DTSTART;TZID=UTC:20230817T190000
DTEND;TZID=UTC:20230817T200000
DTSTAMP:20260422T111825
CREATED:20230424T161618Z
LAST-MODIFIED:20230424T161618Z
UID:10006468-1692298800-1692302400@oloadsm.com
SUMMARY:Coros
DESCRIPTION:
URL:https://oloadsm.com/event/coros/2023-08-17/
LOCATION:Sótano de la Rectoría\, 1271 E 9th St. Des Moines\, IA 50316\, Des Moines\, United States
CATEGORIES:Ministerios
END:VEVENT
BEGIN:VEVENT
DTSTART;TZID=UTC:20230818T190000
DTEND;TZID=UTC:20230818T213000
DTSTAMP:20260422T111825
CREATED:20230404T152418Z
LAST-MODIFIED:20230404T153028Z
UID:10005422-1692385200-1692394200@oloadsm.com
SUMMARY:Biblia
DESCRIPTION:
URL:https://oloadsm.com/event/biblia/2023-08-18/
LOCATION:Sótano templo\, 1271 E 9th St. Des Moines\, IA 50316\, Des Moines\, United States
CATEGORIES:Ministerios
END:VEVENT
BEGIN:VEVENT
DTSTART;TZID=UTC:20230819T090000
DTEND;TZID=UTC:20230819T110000
DTSTAMP:20260422T111825
CREATED:20230424T163140Z
LAST-MODIFIED:20230518T204739Z
UID:10007776-1692435600-1692442800@oloadsm.com
SUMMARY:Monaguillos
DESCRIPTION:Se reúnen el segundo Sábado de mes\, de 9:00 AM a 11:00 AM en el templo Las reuniones inician con el rezo a la Divina Misericordia o el rezo del Santo Rosario Se practica como deben actuar al estar sirviendo en el altar\, durante la santa misa. \nGuia de estudio del libro “Curso para formación de monaguillos” el cual contiene citas bíblicas para reflexionar y como ser cada vez un mejor monaguillo. Al mismo tiempo también tenemos practicas y actividades recreativas.
URL:https://oloadsm.com/event/monaguillos/2023-08-19/
LOCATION:Templo\, 1271 E 9th St. Des Moines\, IA 50316\, Des Moines\, United States
CATEGORIES:Ministerios
END:VEVENT
BEGIN:VEVENT
DTSTART;TZID=UTC:20230821T190000
DTEND;TZID=UTC:20230821T200000
DTSTAMP:20260422T111825
CREATED:20230424T162309Z
LAST-MODIFIED:20230424T162830Z
UID:10007515-1692644400-1692648000@oloadsm.com
SUMMARY:Grupo de Oración Crecimiento
DESCRIPTION:
URL:https://oloadsm.com/event/grupo-de-oracion-crecimiento/2023-08-21/
LOCATION:Sótano templo\, 1271 E 9th St. Des Moines\, IA 50316\, Des Moines\, United States
CATEGORIES:Ministerios
END:VEVENT
BEGIN:VEVENT
DTSTART;TZID=UTC:20230821T193000
DTEND;TZID=UTC:20230821T210000
DTSTAMP:20260422T111825
CREATED:20230424T162506Z
LAST-MODIFIED:20230424T162924Z
UID:10007253-1692646200-1692651600@oloadsm.com
SUMMARY:Grupo de Oración Asamblea
DESCRIPTION:
URL:https://oloadsm.com/event/grupo-de-oracion-asamblea/2023-08-21/
LOCATION:Sótano templo\, 1271 E 9th St. Des Moines\, IA 50316\, Des Moines\, United States
CATEGORIES:Ministerios
END:VEVENT
BEGIN:VEVENT
DTSTART;TZID=UTC:20230822T180000
DTEND;TZID=UTC:20230822T200000
DTSTAMP:20260422T111825
CREATED:20230424T152030Z
LAST-MODIFIED:20230517T203709Z
UID:10006208-1692727200-1692734400@oloadsm.com
SUMMARY:Grupo de Mujeres
DESCRIPTION:Se reúnen el segundo Sábado de mes\, de 9:00 AM a 11:00 AM en el templo Las reuniones inician con el rezo a la Divina Misericordia o el rezo del Santo Rosario Se practica como deben actuar al estar sirviendo en el altar\, durante la santa misa. \nReuniones generales\, Martes en el sótano de la rectoría\, de 6:00 PM a 8:00 PM. La dinámica de reuniones: Oración\, actualmente reflexionando sobre el libro “El Secreto de Maria\, entre otros\, y vemos asuntos relacionados su el ministerio.
URL:https://oloadsm.com/event/grupo-de-mujeres/2023-08-22/
LOCATION:Sótano de la Rectoría\, 1271 E 9th St. Des Moines\, IA 50316\, Des Moines\, United States
CATEGORIES:Ministerios
END:VEVENT
BEGIN:VEVENT
DTSTART;TZID=UTC:20230823T190000
DTEND;TZID=UTC:20230823T210000
DTSTAMP:20260422T111825
CREATED:20230404T153133Z
LAST-MODIFIED:20230404T153133Z
UID:10005945-1692817200-1692824400@oloadsm.com
SUMMARY:Biblia
DESCRIPTION:
URL:https://oloadsm.com/event/biblia-2/2023-08-23/
LOCATION:Salón San Juan Pablo II-Rectoría\, 1271 E 9th St. Des Moines\, IA 50316\, Des Moines\, United States
CATEGORIES:Ministerios
END:VEVENT
BEGIN:VEVENT
DTSTART;TZID=UTC:20230824T180000
DTEND;TZID=UTC:20230824T200000
DTSTAMP:20260422T111825
CREATED:20230424T161744Z
LAST-MODIFIED:20230424T163017Z
UID:10006730-1692900000-1692907200@oloadsm.com
SUMMARY:Grupo de Jóvenes
DESCRIPTION:
URL:https://oloadsm.com/event/grupo-de-jovenes/2023-08-24/
LOCATION:Sótano templo\, 1271 E 9th St. Des Moines\, IA 50316\, Des Moines\, United States
CATEGORIES:Ministerios
END:VEVENT
BEGIN:VEVENT
DTSTART;TZID=UTC:20230824T190000
DTEND;TZID=UTC:20230824T200000
DTSTAMP:20260422T111825
CREATED:20230424T161618Z
LAST-MODIFIED:20230424T161618Z
UID:10006469-1692903600-1692907200@oloadsm.com
SUMMARY:Coros
DESCRIPTION:
URL:https://oloadsm.com/event/coros/2023-08-24/
LOCATION:Sótano de la Rectoría\, 1271 E 9th St. Des Moines\, IA 50316\, Des Moines\, United States
CATEGORIES:Ministerios
END:VEVENT
BEGIN:VEVENT
DTSTART;TZID=UTC:20230825T190000
DTEND;TZID=UTC:20230825T213000
DTSTAMP:20260422T111825
CREATED:20230404T152418Z
LAST-MODIFIED:20230404T153028Z
UID:10005423-1692990000-1692999000@oloadsm.com
SUMMARY:Biblia
DESCRIPTION:
URL:https://oloadsm.com/event/biblia/2023-08-25/
LOCATION:Sótano templo\, 1271 E 9th St. Des Moines\, IA 50316\, Des Moines\, United States
CATEGORIES:Ministerios
END:VEVENT
BEGIN:VEVENT
DTSTART;TZID=UTC:20230826T090000
DTEND;TZID=UTC:20230826T110000
DTSTAMP:20260422T111825
CREATED:20230424T163140Z
LAST-MODIFIED:20230518T204739Z
UID:10007777-1693040400-1693047600@oloadsm.com
SUMMARY:Monaguillos
DESCRIPTION:Se reúnen el segundo Sábado de mes\, de 9:00 AM a 11:00 AM en el templo Las reuniones inician con el rezo a la Divina Misericordia o el rezo del Santo Rosario Se practica como deben actuar al estar sirviendo en el altar\, durante la santa misa. \nGuia de estudio del libro “Curso para formación de monaguillos” el cual contiene citas bíblicas para reflexionar y como ser cada vez un mejor monaguillo. Al mismo tiempo también tenemos practicas y actividades recreativas.
URL:https://oloadsm.com/event/monaguillos/2023-08-26/
LOCATION:Templo\, 1271 E 9th St. Des Moines\, IA 50316\, Des Moines\, United States
CATEGORIES:Ministerios
END:VEVENT
END:VCALENDAR