BEGIN:VCALENDAR
VERSION:2.0
PRODID:-//OLOA - ECPv6.0.13.1//NONSGML v1.0//EN
CALSCALE:GREGORIAN
METHOD:PUBLISH
X-WR-CALNAME:OLOA
X-ORIGINAL-URL:https://oloadsm.com
X-WR-CALDESC:Eventos para OLOA
REFRESH-INTERVAL;VALUE=DURATION:PT1H
X-Robots-Tag:noindex
X-PUBLISHED-TTL:PT1H
BEGIN:VTIMEZONE
TZID:UTC
BEGIN:STANDARD
TZOFFSETFROM:+0000
TZOFFSETTO:+0000
TZNAME:UTC
DTSTART:20280101T000000
END:STANDARD
END:VTIMEZONE
BEGIN:VEVENT
DTSTART;TZID=UTC:20280101T090000
DTEND;TZID=UTC:20280101T110000
DTSTAMP:20260419T131636
CREATED:20230424T163140Z
LAST-MODIFIED:20230518T204739Z
UID:10008004-1830330000-1830337200@oloadsm.com
SUMMARY:Monaguillos
DESCRIPTION:Se reúnen el segundo Sábado de mes\, de 9:00 AM a 11:00 AM en el templo Las reuniones inician con el rezo a la Divina Misericordia o el rezo del Santo Rosario Se practica como deben actuar al estar sirviendo en el altar\, durante la santa misa. \nGuia de estudio del libro “Curso para formación de monaguillos” el cual contiene citas bíblicas para reflexionar y como ser cada vez un mejor monaguillo. Al mismo tiempo también tenemos practicas y actividades recreativas.
URL:https://oloadsm.com/event/monaguillos/2028-01-01/
LOCATION:Templo\, 1271 E 9th St. Des Moines\, IA 50316\, Des Moines\, United States
CATEGORIES:Ministerios
END:VEVENT
BEGIN:VEVENT
DTSTART;TZID=UTC:20280103T190000
DTEND;TZID=UTC:20280103T200000
DTSTAMP:20260419T131636
CREATED:20230424T162309Z
LAST-MODIFIED:20230424T162830Z
UID:10007743-1830538800-1830542400@oloadsm.com
SUMMARY:Grupo de Oración Crecimiento
DESCRIPTION:
URL:https://oloadsm.com/event/grupo-de-oracion-crecimiento/2028-01-03/
LOCATION:Sótano templo\, 1271 E 9th St. Des Moines\, IA 50316\, Des Moines\, United States
CATEGORIES:Ministerios
END:VEVENT
BEGIN:VEVENT
DTSTART;TZID=UTC:20280103T193000
DTEND;TZID=UTC:20280103T210000
DTSTAMP:20260419T131636
CREATED:20230424T162506Z
LAST-MODIFIED:20230424T162924Z
UID:10007481-1830540600-1830546000@oloadsm.com
SUMMARY:Grupo de Oración Asamblea
DESCRIPTION:
URL:https://oloadsm.com/event/grupo-de-oracion-asamblea/2028-01-03/
LOCATION:Sótano templo\, 1271 E 9th St. Des Moines\, IA 50316\, Des Moines\, United States
CATEGORIES:Ministerios
END:VEVENT
BEGIN:VEVENT
DTSTART;TZID=UTC:20280104T180000
DTEND;TZID=UTC:20280104T200000
DTSTAMP:20260419T131636
CREATED:20230424T152030Z
LAST-MODIFIED:20230517T203709Z
UID:10006436-1830621600-1830628800@oloadsm.com
SUMMARY:Grupo de Mujeres
DESCRIPTION:Se reúnen el segundo Sábado de mes\, de 9:00 AM a 11:00 AM en el templo Las reuniones inician con el rezo a la Divina Misericordia o el rezo del Santo Rosario Se practica como deben actuar al estar sirviendo en el altar\, durante la santa misa. \nReuniones generales\, Martes en el sótano de la rectoría\, de 6:00 PM a 8:00 PM. La dinámica de reuniones: Oración\, actualmente reflexionando sobre el libro “El Secreto de Maria\, entre otros\, y vemos asuntos relacionados su el ministerio.
URL:https://oloadsm.com/event/grupo-de-mujeres/2028-01-04/
LOCATION:Sótano de la Rectoría\, 1271 E 9th St. Des Moines\, IA 50316\, Des Moines\, United States
CATEGORIES:Ministerios
END:VEVENT
BEGIN:VEVENT
DTSTART;TZID=UTC:20280105T190000
DTEND;TZID=UTC:20280105T210000
DTSTAMP:20260419T131636
CREATED:20230404T153133Z
LAST-MODIFIED:20230404T153133Z
UID:10006173-1830711600-1830718800@oloadsm.com
SUMMARY:Biblia
DESCRIPTION:
URL:https://oloadsm.com/event/biblia-2/2028-01-05/
LOCATION:Salón San Juan Pablo II-Rectoría\, 1271 E 9th St. Des Moines\, IA 50316\, Des Moines\, United States
CATEGORIES:Ministerios
END:VEVENT
BEGIN:VEVENT
DTSTART;TZID=UTC:20280106T180000
DTEND;TZID=UTC:20280106T200000
DTSTAMP:20260419T131636
CREATED:20230424T161744Z
LAST-MODIFIED:20230424T163017Z
UID:10006958-1830794400-1830801600@oloadsm.com
SUMMARY:Grupo de Jóvenes
DESCRIPTION:
URL:https://oloadsm.com/event/grupo-de-jovenes/2028-01-06/
LOCATION:Sótano templo\, 1271 E 9th St. Des Moines\, IA 50316\, Des Moines\, United States
CATEGORIES:Ministerios
END:VEVENT
BEGIN:VEVENT
DTSTART;TZID=UTC:20280106T190000
DTEND;TZID=UTC:20280106T200000
DTSTAMP:20260419T131636
CREATED:20230424T161618Z
LAST-MODIFIED:20230424T161618Z
UID:10006697-1830798000-1830801600@oloadsm.com
SUMMARY:Coros
DESCRIPTION:
URL:https://oloadsm.com/event/coros/2028-01-06/
LOCATION:Sótano de la Rectoría\, 1271 E 9th St. Des Moines\, IA 50316\, Des Moines\, United States
CATEGORIES:Ministerios
END:VEVENT
BEGIN:VEVENT
DTSTART;TZID=UTC:20280107T190000
DTEND;TZID=UTC:20280107T213000
DTSTAMP:20260419T131636
CREATED:20230404T152418Z
LAST-MODIFIED:20230404T153028Z
UID:10005651-1830884400-1830893400@oloadsm.com
SUMMARY:Biblia
DESCRIPTION:
URL:https://oloadsm.com/event/biblia/2028-01-07/
LOCATION:Sótano templo\, 1271 E 9th St. Des Moines\, IA 50316\, Des Moines\, United States
CATEGORIES:Ministerios
END:VEVENT
BEGIN:VEVENT
DTSTART;TZID=UTC:20280108T090000
DTEND;TZID=UTC:20280108T110000
DTSTAMP:20260419T131636
CREATED:20230424T163140Z
LAST-MODIFIED:20230518T204739Z
UID:10008005-1830934800-1830942000@oloadsm.com
SUMMARY:Monaguillos
DESCRIPTION:Se reúnen el segundo Sábado de mes\, de 9:00 AM a 11:00 AM en el templo Las reuniones inician con el rezo a la Divina Misericordia o el rezo del Santo Rosario Se practica como deben actuar al estar sirviendo en el altar\, durante la santa misa. \nGuia de estudio del libro “Curso para formación de monaguillos” el cual contiene citas bíblicas para reflexionar y como ser cada vez un mejor monaguillo. Al mismo tiempo también tenemos practicas y actividades recreativas.
URL:https://oloadsm.com/event/monaguillos/2028-01-08/
LOCATION:Templo\, 1271 E 9th St. Des Moines\, IA 50316\, Des Moines\, United States
CATEGORIES:Ministerios
END:VEVENT
BEGIN:VEVENT
DTSTART;TZID=UTC:20280110T190000
DTEND;TZID=UTC:20280110T200000
DTSTAMP:20260419T131636
CREATED:20230424T162309Z
LAST-MODIFIED:20230424T162830Z
UID:10007744-1831143600-1831147200@oloadsm.com
SUMMARY:Grupo de Oración Crecimiento
DESCRIPTION:
URL:https://oloadsm.com/event/grupo-de-oracion-crecimiento/2028-01-10/
LOCATION:Sótano templo\, 1271 E 9th St. Des Moines\, IA 50316\, Des Moines\, United States
CATEGORIES:Ministerios
END:VEVENT
BEGIN:VEVENT
DTSTART;TZID=UTC:20280110T193000
DTEND;TZID=UTC:20280110T210000
DTSTAMP:20260419T131636
CREATED:20230424T162506Z
LAST-MODIFIED:20230424T162924Z
UID:10007482-1831145400-1831150800@oloadsm.com
SUMMARY:Grupo de Oración Asamblea
DESCRIPTION:
URL:https://oloadsm.com/event/grupo-de-oracion-asamblea/2028-01-10/
LOCATION:Sótano templo\, 1271 E 9th St. Des Moines\, IA 50316\, Des Moines\, United States
CATEGORIES:Ministerios
END:VEVENT
BEGIN:VEVENT
DTSTART;TZID=UTC:20280111T180000
DTEND;TZID=UTC:20280111T200000
DTSTAMP:20260419T131636
CREATED:20230424T152030Z
LAST-MODIFIED:20230517T203709Z
UID:10006437-1831226400-1831233600@oloadsm.com
SUMMARY:Grupo de Mujeres
DESCRIPTION:Se reúnen el segundo Sábado de mes\, de 9:00 AM a 11:00 AM en el templo Las reuniones inician con el rezo a la Divina Misericordia o el rezo del Santo Rosario Se practica como deben actuar al estar sirviendo en el altar\, durante la santa misa. \nReuniones generales\, Martes en el sótano de la rectoría\, de 6:00 PM a 8:00 PM. La dinámica de reuniones: Oración\, actualmente reflexionando sobre el libro “El Secreto de Maria\, entre otros\, y vemos asuntos relacionados su el ministerio.
URL:https://oloadsm.com/event/grupo-de-mujeres/2028-01-11/
LOCATION:Sótano de la Rectoría\, 1271 E 9th St. Des Moines\, IA 50316\, Des Moines\, United States
CATEGORIES:Ministerios
END:VEVENT
BEGIN:VEVENT
DTSTART;TZID=UTC:20280112T190000
DTEND;TZID=UTC:20280112T210000
DTSTAMP:20260419T131636
CREATED:20230404T153133Z
LAST-MODIFIED:20230404T153133Z
UID:10006174-1831316400-1831323600@oloadsm.com
SUMMARY:Biblia
DESCRIPTION:
URL:https://oloadsm.com/event/biblia-2/2028-01-12/
LOCATION:Salón San Juan Pablo II-Rectoría\, 1271 E 9th St. Des Moines\, IA 50316\, Des Moines\, United States
CATEGORIES:Ministerios
END:VEVENT
BEGIN:VEVENT
DTSTART;TZID=UTC:20280113T180000
DTEND;TZID=UTC:20280113T200000
DTSTAMP:20260419T131636
CREATED:20230424T161744Z
LAST-MODIFIED:20230424T163017Z
UID:10006959-1831399200-1831406400@oloadsm.com
SUMMARY:Grupo de Jóvenes
DESCRIPTION:
URL:https://oloadsm.com/event/grupo-de-jovenes/2028-01-13/
LOCATION:Sótano templo\, 1271 E 9th St. Des Moines\, IA 50316\, Des Moines\, United States
CATEGORIES:Ministerios
END:VEVENT
BEGIN:VEVENT
DTSTART;TZID=UTC:20280113T190000
DTEND;TZID=UTC:20280113T200000
DTSTAMP:20260419T131636
CREATED:20230424T161618Z
LAST-MODIFIED:20230424T161618Z
UID:10006698-1831402800-1831406400@oloadsm.com
SUMMARY:Coros
DESCRIPTION:
URL:https://oloadsm.com/event/coros/2028-01-13/
LOCATION:Sótano de la Rectoría\, 1271 E 9th St. Des Moines\, IA 50316\, Des Moines\, United States
CATEGORIES:Ministerios
END:VEVENT
BEGIN:VEVENT
DTSTART;TZID=UTC:20280114T190000
DTEND;TZID=UTC:20280114T213000
DTSTAMP:20260419T131636
CREATED:20230404T152418Z
LAST-MODIFIED:20230404T153028Z
UID:10005652-1831489200-1831498200@oloadsm.com
SUMMARY:Biblia
DESCRIPTION:
URL:https://oloadsm.com/event/biblia/2028-01-14/
LOCATION:Sótano templo\, 1271 E 9th St. Des Moines\, IA 50316\, Des Moines\, United States
CATEGORIES:Ministerios
END:VEVENT
BEGIN:VEVENT
DTSTART;TZID=UTC:20280115T090000
DTEND;TZID=UTC:20280115T110000
DTSTAMP:20260419T131636
CREATED:20230424T163140Z
LAST-MODIFIED:20230518T204739Z
UID:10008006-1831539600-1831546800@oloadsm.com
SUMMARY:Monaguillos
DESCRIPTION:Se reúnen el segundo Sábado de mes\, de 9:00 AM a 11:00 AM en el templo Las reuniones inician con el rezo a la Divina Misericordia o el rezo del Santo Rosario Se practica como deben actuar al estar sirviendo en el altar\, durante la santa misa. \nGuia de estudio del libro “Curso para formación de monaguillos” el cual contiene citas bíblicas para reflexionar y como ser cada vez un mejor monaguillo. Al mismo tiempo también tenemos practicas y actividades recreativas.
URL:https://oloadsm.com/event/monaguillos/2028-01-15/
LOCATION:Templo\, 1271 E 9th St. Des Moines\, IA 50316\, Des Moines\, United States
CATEGORIES:Ministerios
END:VEVENT
BEGIN:VEVENT
DTSTART;TZID=UTC:20280117T190000
DTEND;TZID=UTC:20280117T200000
DTSTAMP:20260419T131636
CREATED:20230424T162309Z
LAST-MODIFIED:20230424T162830Z
UID:10007745-1831748400-1831752000@oloadsm.com
SUMMARY:Grupo de Oración Crecimiento
DESCRIPTION:
URL:https://oloadsm.com/event/grupo-de-oracion-crecimiento/2028-01-17/
LOCATION:Sótano templo\, 1271 E 9th St. Des Moines\, IA 50316\, Des Moines\, United States
CATEGORIES:Ministerios
END:VEVENT
BEGIN:VEVENT
DTSTART;TZID=UTC:20280117T193000
DTEND;TZID=UTC:20280117T210000
DTSTAMP:20260419T131636
CREATED:20230424T162506Z
LAST-MODIFIED:20230424T162924Z
UID:10007483-1831750200-1831755600@oloadsm.com
SUMMARY:Grupo de Oración Asamblea
DESCRIPTION:
URL:https://oloadsm.com/event/grupo-de-oracion-asamblea/2028-01-17/
LOCATION:Sótano templo\, 1271 E 9th St. Des Moines\, IA 50316\, Des Moines\, United States
CATEGORIES:Ministerios
END:VEVENT
BEGIN:VEVENT
DTSTART;TZID=UTC:20280118T180000
DTEND;TZID=UTC:20280118T200000
DTSTAMP:20260419T131636
CREATED:20230424T152030Z
LAST-MODIFIED:20230517T203709Z
UID:10006438-1831831200-1831838400@oloadsm.com
SUMMARY:Grupo de Mujeres
DESCRIPTION:Se reúnen el segundo Sábado de mes\, de 9:00 AM a 11:00 AM en el templo Las reuniones inician con el rezo a la Divina Misericordia o el rezo del Santo Rosario Se practica como deben actuar al estar sirviendo en el altar\, durante la santa misa. \nReuniones generales\, Martes en el sótano de la rectoría\, de 6:00 PM a 8:00 PM. La dinámica de reuniones: Oración\, actualmente reflexionando sobre el libro “El Secreto de Maria\, entre otros\, y vemos asuntos relacionados su el ministerio.
URL:https://oloadsm.com/event/grupo-de-mujeres/2028-01-18/
LOCATION:Sótano de la Rectoría\, 1271 E 9th St. Des Moines\, IA 50316\, Des Moines\, United States
CATEGORIES:Ministerios
END:VEVENT
BEGIN:VEVENT
DTSTART;TZID=UTC:20280119T190000
DTEND;TZID=UTC:20280119T210000
DTSTAMP:20260419T131636
CREATED:20230404T153133Z
LAST-MODIFIED:20230404T153133Z
UID:10006175-1831921200-1831928400@oloadsm.com
SUMMARY:Biblia
DESCRIPTION:
URL:https://oloadsm.com/event/biblia-2/2028-01-19/
LOCATION:Salón San Juan Pablo II-Rectoría\, 1271 E 9th St. Des Moines\, IA 50316\, Des Moines\, United States
CATEGORIES:Ministerios
END:VEVENT
BEGIN:VEVENT
DTSTART;TZID=UTC:20280120T180000
DTEND;TZID=UTC:20280120T200000
DTSTAMP:20260419T131636
CREATED:20230424T161744Z
LAST-MODIFIED:20230424T163017Z
UID:10006960-1832004000-1832011200@oloadsm.com
SUMMARY:Grupo de Jóvenes
DESCRIPTION:
URL:https://oloadsm.com/event/grupo-de-jovenes/2028-01-20/
LOCATION:Sótano templo\, 1271 E 9th St. Des Moines\, IA 50316\, Des Moines\, United States
CATEGORIES:Ministerios
END:VEVENT
BEGIN:VEVENT
DTSTART;TZID=UTC:20280120T190000
DTEND;TZID=UTC:20280120T200000
DTSTAMP:20260419T131636
CREATED:20230424T161618Z
LAST-MODIFIED:20230424T161618Z
UID:10006699-1832007600-1832011200@oloadsm.com
SUMMARY:Coros
DESCRIPTION:
URL:https://oloadsm.com/event/coros/2028-01-20/
LOCATION:Sótano de la Rectoría\, 1271 E 9th St. Des Moines\, IA 50316\, Des Moines\, United States
CATEGORIES:Ministerios
END:VEVENT
BEGIN:VEVENT
DTSTART;TZID=UTC:20280121T190000
DTEND;TZID=UTC:20280121T213000
DTSTAMP:20260419T131636
CREATED:20230404T152418Z
LAST-MODIFIED:20230404T153028Z
UID:10005653-1832094000-1832103000@oloadsm.com
SUMMARY:Biblia
DESCRIPTION:
URL:https://oloadsm.com/event/biblia/2028-01-21/
LOCATION:Sótano templo\, 1271 E 9th St. Des Moines\, IA 50316\, Des Moines\, United States
CATEGORIES:Ministerios
END:VEVENT
BEGIN:VEVENT
DTSTART;TZID=UTC:20280122T090000
DTEND;TZID=UTC:20280122T110000
DTSTAMP:20260419T131636
CREATED:20230424T163140Z
LAST-MODIFIED:20230518T204739Z
UID:10008007-1832144400-1832151600@oloadsm.com
SUMMARY:Monaguillos
DESCRIPTION:Se reúnen el segundo Sábado de mes\, de 9:00 AM a 11:00 AM en el templo Las reuniones inician con el rezo a la Divina Misericordia o el rezo del Santo Rosario Se practica como deben actuar al estar sirviendo en el altar\, durante la santa misa. \nGuia de estudio del libro “Curso para formación de monaguillos” el cual contiene citas bíblicas para reflexionar y como ser cada vez un mejor monaguillo. Al mismo tiempo también tenemos practicas y actividades recreativas.
URL:https://oloadsm.com/event/monaguillos/2028-01-22/
LOCATION:Templo\, 1271 E 9th St. Des Moines\, IA 50316\, Des Moines\, United States
CATEGORIES:Ministerios
END:VEVENT
BEGIN:VEVENT
DTSTART;TZID=UTC:20280124T190000
DTEND;TZID=UTC:20280124T200000
DTSTAMP:20260419T131636
CREATED:20230424T162309Z
LAST-MODIFIED:20230424T162830Z
UID:10007746-1832353200-1832356800@oloadsm.com
SUMMARY:Grupo de Oración Crecimiento
DESCRIPTION:
URL:https://oloadsm.com/event/grupo-de-oracion-crecimiento/2028-01-24/
LOCATION:Sótano templo\, 1271 E 9th St. Des Moines\, IA 50316\, Des Moines\, United States
CATEGORIES:Ministerios
END:VEVENT
BEGIN:VEVENT
DTSTART;TZID=UTC:20280124T193000
DTEND;TZID=UTC:20280124T210000
DTSTAMP:20260419T131636
CREATED:20230424T162506Z
LAST-MODIFIED:20230424T162924Z
UID:10007484-1832355000-1832360400@oloadsm.com
SUMMARY:Grupo de Oración Asamblea
DESCRIPTION:
URL:https://oloadsm.com/event/grupo-de-oracion-asamblea/2028-01-24/
LOCATION:Sótano templo\, 1271 E 9th St. Des Moines\, IA 50316\, Des Moines\, United States
CATEGORIES:Ministerios
END:VEVENT
BEGIN:VEVENT
DTSTART;TZID=UTC:20280125T180000
DTEND;TZID=UTC:20280125T200000
DTSTAMP:20260419T131636
CREATED:20230424T152030Z
LAST-MODIFIED:20230517T203709Z
UID:10006439-1832436000-1832443200@oloadsm.com
SUMMARY:Grupo de Mujeres
DESCRIPTION:Se reúnen el segundo Sábado de mes\, de 9:00 AM a 11:00 AM en el templo Las reuniones inician con el rezo a la Divina Misericordia o el rezo del Santo Rosario Se practica como deben actuar al estar sirviendo en el altar\, durante la santa misa. \nReuniones generales\, Martes en el sótano de la rectoría\, de 6:00 PM a 8:00 PM. La dinámica de reuniones: Oración\, actualmente reflexionando sobre el libro “El Secreto de Maria\, entre otros\, y vemos asuntos relacionados su el ministerio.
URL:https://oloadsm.com/event/grupo-de-mujeres/2028-01-25/
LOCATION:Sótano de la Rectoría\, 1271 E 9th St. Des Moines\, IA 50316\, Des Moines\, United States
CATEGORIES:Ministerios
END:VEVENT
BEGIN:VEVENT
DTSTART;TZID=UTC:20280126T190000
DTEND;TZID=UTC:20280126T210000
DTSTAMP:20260419T131636
CREATED:20230404T153133Z
LAST-MODIFIED:20230404T153133Z
UID:10006176-1832526000-1832533200@oloadsm.com
SUMMARY:Biblia
DESCRIPTION:
URL:https://oloadsm.com/event/biblia-2/2028-01-26/
LOCATION:Salón San Juan Pablo II-Rectoría\, 1271 E 9th St. Des Moines\, IA 50316\, Des Moines\, United States
CATEGORIES:Ministerios
END:VEVENT
BEGIN:VEVENT
DTSTART;TZID=UTC:20280127T180000
DTEND;TZID=UTC:20280127T200000
DTSTAMP:20260419T131636
CREATED:20230424T161744Z
LAST-MODIFIED:20230424T163017Z
UID:10006961-1832608800-1832616000@oloadsm.com
SUMMARY:Grupo de Jóvenes
DESCRIPTION:
URL:https://oloadsm.com/event/grupo-de-jovenes/2028-01-27/
LOCATION:Sótano templo\, 1271 E 9th St. Des Moines\, IA 50316\, Des Moines\, United States
CATEGORIES:Ministerios
END:VEVENT
END:VCALENDAR