BEGIN:VCALENDAR
VERSION:2.0
PRODID:-//OLOA - ECPv6.0.13.1//NONSGML v1.0//EN
CALSCALE:GREGORIAN
METHOD:PUBLISH
X-ORIGINAL-URL:https://oloadsm.com
X-WR-CALDESC:Eventos para OLOA
REFRESH-INTERVAL;VALUE=DURATION:PT1H
X-Robots-Tag:noindex
X-PUBLISHED-TTL:PT1H
BEGIN:VTIMEZONE
TZID:UTC
BEGIN:STANDARD
TZOFFSETFROM:+0000
TZOFFSETTO:+0000
TZNAME:UTC
DTSTART:20280101T000000
END:STANDARD
END:VTIMEZONE
BEGIN:VEVENT
DTSTART;TZID=UTC:20280502T180000
DTEND;TZID=UTC:20280502T200000
DTSTAMP:20260419T192033
CREATED:20230424T152030Z
LAST-MODIFIED:20230517T203709Z
UID:10008025-1840903200-1840910400@oloadsm.com
SUMMARY:Grupo de Mujeres
DESCRIPTION:Se reúnen el segundo Sábado de mes\, de 9:00 AM a 11:00 AM en el templo Las reuniones inician con el rezo a la Divina Misericordia o el rezo del Santo Rosario Se practica como deben actuar al estar sirviendo en el altar\, durante la santa misa. \nReuniones generales\, Martes en el sótano de la rectoría\, de 6:00 PM a 8:00 PM. La dinámica de reuniones: Oración\, actualmente reflexionando sobre el libro “El Secreto de Maria\, entre otros\, y vemos asuntos relacionados su el ministerio.
URL:https://oloadsm.com/event/grupo-de-mujeres/2028-05-02/
LOCATION:Sótano de la Rectoría\, 1271 E 9th St. Des Moines\, IA 50316\, Des Moines\, United States
CATEGORIES:Ministerios
END:VEVENT
BEGIN:VEVENT
DTSTART;TZID=UTC:20280506T090000
DTEND;TZID=UTC:20280506T110000
DTSTAMP:20260419T192033
CREATED:20230424T163140Z
LAST-MODIFIED:20230518T204739Z
UID:10008022-1841216400-1841223600@oloadsm.com
SUMMARY:Monaguillos
DESCRIPTION:Se reúnen el segundo Sábado de mes\, de 9:00 AM a 11:00 AM en el templo Las reuniones inician con el rezo a la Divina Misericordia o el rezo del Santo Rosario Se practica como deben actuar al estar sirviendo en el altar\, durante la santa misa. \nGuia de estudio del libro “Curso para formación de monaguillos” el cual contiene citas bíblicas para reflexionar y como ser cada vez un mejor monaguillo. Al mismo tiempo también tenemos practicas y actividades recreativas.
URL:https://oloadsm.com/event/monaguillos/2028-05-06/
LOCATION:Templo\, 1271 E 9th St. Des Moines\, IA 50316\, Des Moines\, United States
CATEGORIES:Ministerios
END:VEVENT
BEGIN:VEVENT
DTSTART;TZID=UTC:20280509T180000
DTEND;TZID=UTC:20280509T200000
DTSTAMP:20260419T192033
CREATED:20230424T152030Z
LAST-MODIFIED:20230517T203709Z
UID:10008026-1841508000-1841515200@oloadsm.com
SUMMARY:Grupo de Mujeres
DESCRIPTION:Se reúnen el segundo Sábado de mes\, de 9:00 AM a 11:00 AM en el templo Las reuniones inician con el rezo a la Divina Misericordia o el rezo del Santo Rosario Se practica como deben actuar al estar sirviendo en el altar\, durante la santa misa. \nReuniones generales\, Martes en el sótano de la rectoría\, de 6:00 PM a 8:00 PM. La dinámica de reuniones: Oración\, actualmente reflexionando sobre el libro “El Secreto de Maria\, entre otros\, y vemos asuntos relacionados su el ministerio.
URL:https://oloadsm.com/event/grupo-de-mujeres/2028-05-09/
LOCATION:Sótano de la Rectoría\, 1271 E 9th St. Des Moines\, IA 50316\, Des Moines\, United States
CATEGORIES:Ministerios
END:VEVENT
BEGIN:VEVENT
DTSTART;TZID=UTC:20280513T090000
DTEND;TZID=UTC:20280513T110000
DTSTAMP:20260419T192033
CREATED:20230424T163140Z
LAST-MODIFIED:20230518T204739Z
UID:10008023-1841821200-1841828400@oloadsm.com
SUMMARY:Monaguillos
DESCRIPTION:Se reúnen el segundo Sábado de mes\, de 9:00 AM a 11:00 AM en el templo Las reuniones inician con el rezo a la Divina Misericordia o el rezo del Santo Rosario Se practica como deben actuar al estar sirviendo en el altar\, durante la santa misa. \nGuia de estudio del libro “Curso para formación de monaguillos” el cual contiene citas bíblicas para reflexionar y como ser cada vez un mejor monaguillo. Al mismo tiempo también tenemos practicas y actividades recreativas.
URL:https://oloadsm.com/event/monaguillos/2028-05-13/
LOCATION:Templo\, 1271 E 9th St. Des Moines\, IA 50316\, Des Moines\, United States
CATEGORIES:Ministerios
END:VEVENT
BEGIN:VEVENT
DTSTART;TZID=UTC:20280516T180000
DTEND;TZID=UTC:20280516T200000
DTSTAMP:20260419T192033
CREATED:20230424T152030Z
LAST-MODIFIED:20230517T203709Z
UID:10008027-1842112800-1842120000@oloadsm.com
SUMMARY:Grupo de Mujeres
DESCRIPTION:Se reúnen el segundo Sábado de mes\, de 9:00 AM a 11:00 AM en el templo Las reuniones inician con el rezo a la Divina Misericordia o el rezo del Santo Rosario Se practica como deben actuar al estar sirviendo en el altar\, durante la santa misa. \nReuniones generales\, Martes en el sótano de la rectoría\, de 6:00 PM a 8:00 PM. La dinámica de reuniones: Oración\, actualmente reflexionando sobre el libro “El Secreto de Maria\, entre otros\, y vemos asuntos relacionados su el ministerio.
URL:https://oloadsm.com/event/grupo-de-mujeres/2028-05-16/
LOCATION:Sótano de la Rectoría\, 1271 E 9th St. Des Moines\, IA 50316\, Des Moines\, United States
CATEGORIES:Ministerios
END:VEVENT
END:VCALENDAR