BEGIN:VCALENDAR
VERSION:2.0
PRODID:-//OLOA - ECPv6.0.13.1//NONSGML v1.0//EN
CALSCALE:GREGORIAN
METHOD:PUBLISH
X-ORIGINAL-URL:https://oloadsm.com
X-WR-CALDESC:Eventos para OLOA
REFRESH-INTERVAL;VALUE=DURATION:PT1H
X-Robots-Tag:noindex
X-PUBLISHED-TTL:PT1H
BEGIN:VTIMEZONE
TZID:UTC
BEGIN:STANDARD
TZOFFSETFROM:+0000
TZOFFSETTO:+0000
TZNAME:UTC
DTSTART:20270101T000000
END:STANDARD
END:VTIMEZONE
BEGIN:VEVENT
DTSTART;TZID=UTC:20270513T180000
DTEND;TZID=UTC:20270513T200000
DTSTAMP:20260422T125538
CREATED:20230424T161744Z
LAST-MODIFIED:20230424T163017Z
UID:10006924-1810231200-1810238400@oloadsm.com
SUMMARY:Grupo de Jóvenes
DESCRIPTION:
URL:https://oloadsm.com/event/grupo-de-jovenes/2027-05-13/
LOCATION:Sótano templo\, 1271 E 9th St. Des Moines\, IA 50316\, Des Moines\, United States
CATEGORIES:Ministerios
END:VEVENT
BEGIN:VEVENT
DTSTART;TZID=UTC:20270514T190000
DTEND;TZID=UTC:20270514T213000
DTSTAMP:20260422T125538
CREATED:20230404T152418Z
LAST-MODIFIED:20230404T153028Z
UID:10005617-1810321200-1810330200@oloadsm.com
SUMMARY:Biblia
DESCRIPTION:
URL:https://oloadsm.com/event/biblia/2027-05-14/
LOCATION:Sótano templo\, 1271 E 9th St. Des Moines\, IA 50316\, Des Moines\, United States
CATEGORIES:Ministerios
END:VEVENT
BEGIN:VEVENT
DTSTART;TZID=UTC:20270517T190000
DTEND;TZID=UTC:20270517T200000
DTSTAMP:20260422T125538
CREATED:20230424T162309Z
LAST-MODIFIED:20230424T162830Z
UID:10007710-1810580400-1810584000@oloadsm.com
SUMMARY:Grupo de Oración Crecimiento
DESCRIPTION:
URL:https://oloadsm.com/event/grupo-de-oracion-crecimiento/2027-05-17/
LOCATION:Sótano templo\, 1271 E 9th St. Des Moines\, IA 50316\, Des Moines\, United States
CATEGORIES:Ministerios
END:VEVENT
BEGIN:VEVENT
DTSTART;TZID=UTC:20270517T193000
DTEND;TZID=UTC:20270517T210000
DTSTAMP:20260422T125538
CREATED:20230424T162506Z
LAST-MODIFIED:20230424T162924Z
UID:10007448-1810582200-1810587600@oloadsm.com
SUMMARY:Grupo de Oración Asamblea
DESCRIPTION:
URL:https://oloadsm.com/event/grupo-de-oracion-asamblea/2027-05-17/
LOCATION:Sótano templo\, 1271 E 9th St. Des Moines\, IA 50316\, Des Moines\, United States
CATEGORIES:Ministerios
END:VEVENT
BEGIN:VEVENT
DTSTART;TZID=UTC:20270520T180000
DTEND;TZID=UTC:20270520T200000
DTSTAMP:20260422T125538
CREATED:20230424T161744Z
LAST-MODIFIED:20230424T163017Z
UID:10006925-1810836000-1810843200@oloadsm.com
SUMMARY:Grupo de Jóvenes
DESCRIPTION:
URL:https://oloadsm.com/event/grupo-de-jovenes/2027-05-20/
LOCATION:Sótano templo\, 1271 E 9th St. Des Moines\, IA 50316\, Des Moines\, United States
CATEGORIES:Ministerios
END:VEVENT
BEGIN:VEVENT
DTSTART;TZID=UTC:20270521T190000
DTEND;TZID=UTC:20270521T213000
DTSTAMP:20260422T125538
CREATED:20230404T152418Z
LAST-MODIFIED:20230404T153028Z
UID:10005618-1810926000-1810935000@oloadsm.com
SUMMARY:Biblia
DESCRIPTION:
URL:https://oloadsm.com/event/biblia/2027-05-21/
LOCATION:Sótano templo\, 1271 E 9th St. Des Moines\, IA 50316\, Des Moines\, United States
CATEGORIES:Ministerios
END:VEVENT
BEGIN:VEVENT
DTSTART;TZID=UTC:20270524T190000
DTEND;TZID=UTC:20270524T200000
DTSTAMP:20260422T125538
CREATED:20230424T162309Z
LAST-MODIFIED:20230424T162830Z
UID:10007711-1811185200-1811188800@oloadsm.com
SUMMARY:Grupo de Oración Crecimiento
DESCRIPTION:
URL:https://oloadsm.com/event/grupo-de-oracion-crecimiento/2027-05-24/
LOCATION:Sótano templo\, 1271 E 9th St. Des Moines\, IA 50316\, Des Moines\, United States
CATEGORIES:Ministerios
END:VEVENT
BEGIN:VEVENT
DTSTART;TZID=UTC:20270524T193000
DTEND;TZID=UTC:20270524T210000
DTSTAMP:20260422T125538
CREATED:20230424T162506Z
LAST-MODIFIED:20230424T162924Z
UID:10007449-1811187000-1811192400@oloadsm.com
SUMMARY:Grupo de Oración Asamblea
DESCRIPTION:
URL:https://oloadsm.com/event/grupo-de-oracion-asamblea/2027-05-24/
LOCATION:Sótano templo\, 1271 E 9th St. Des Moines\, IA 50316\, Des Moines\, United States
CATEGORIES:Ministerios
END:VEVENT
BEGIN:VEVENT
DTSTART;TZID=UTC:20270527T180000
DTEND;TZID=UTC:20270527T200000
DTSTAMP:20260422T125538
CREATED:20230424T161744Z
LAST-MODIFIED:20230424T163017Z
UID:10006926-1811440800-1811448000@oloadsm.com
SUMMARY:Grupo de Jóvenes
DESCRIPTION:
URL:https://oloadsm.com/event/grupo-de-jovenes/2027-05-27/
LOCATION:Sótano templo\, 1271 E 9th St. Des Moines\, IA 50316\, Des Moines\, United States
CATEGORIES:Ministerios
END:VEVENT
BEGIN:VEVENT
DTSTART;TZID=UTC:20270528T190000
DTEND;TZID=UTC:20270528T213000
DTSTAMP:20260422T125538
CREATED:20230404T152418Z
LAST-MODIFIED:20230404T153028Z
UID:10005619-1811530800-1811539800@oloadsm.com
SUMMARY:Biblia
DESCRIPTION:
URL:https://oloadsm.com/event/biblia/2027-05-28/
LOCATION:Sótano templo\, 1271 E 9th St. Des Moines\, IA 50316\, Des Moines\, United States
CATEGORIES:Ministerios
END:VEVENT
BEGIN:VEVENT
DTSTART;TZID=UTC:20270531T190000
DTEND;TZID=UTC:20270531T200000
DTSTAMP:20260422T125538
CREATED:20230424T162309Z
LAST-MODIFIED:20230424T162830Z
UID:10007712-1811790000-1811793600@oloadsm.com
SUMMARY:Grupo de Oración Crecimiento
DESCRIPTION:
URL:https://oloadsm.com/event/grupo-de-oracion-crecimiento/2027-05-31/
LOCATION:Sótano templo\, 1271 E 9th St. Des Moines\, IA 50316\, Des Moines\, United States
CATEGORIES:Ministerios
END:VEVENT
BEGIN:VEVENT
DTSTART;TZID=UTC:20270531T193000
DTEND;TZID=UTC:20270531T210000
DTSTAMP:20260422T125538
CREATED:20230424T162506Z
LAST-MODIFIED:20230424T162924Z
UID:10007450-1811791800-1811797200@oloadsm.com
SUMMARY:Grupo de Oración Asamblea
DESCRIPTION:
URL:https://oloadsm.com/event/grupo-de-oracion-asamblea/2027-05-31/
LOCATION:Sótano templo\, 1271 E 9th St. Des Moines\, IA 50316\, Des Moines\, United States
CATEGORIES:Ministerios
END:VEVENT
BEGIN:VEVENT
DTSTART;TZID=UTC:20270603T180000
DTEND;TZID=UTC:20270603T200000
DTSTAMP:20260422T125538
CREATED:20230424T161744Z
LAST-MODIFIED:20230424T163017Z
UID:10006927-1812045600-1812052800@oloadsm.com
SUMMARY:Grupo de Jóvenes
DESCRIPTION:
URL:https://oloadsm.com/event/grupo-de-jovenes/2027-06-03/
LOCATION:Sótano templo\, 1271 E 9th St. Des Moines\, IA 50316\, Des Moines\, United States
CATEGORIES:Ministerios
END:VEVENT
BEGIN:VEVENT
DTSTART;TZID=UTC:20270604T190000
DTEND;TZID=UTC:20270604T213000
DTSTAMP:20260422T125538
CREATED:20230404T152418Z
LAST-MODIFIED:20230404T153028Z
UID:10005620-1812135600-1812144600@oloadsm.com
SUMMARY:Biblia
DESCRIPTION:
URL:https://oloadsm.com/event/biblia/2027-06-04/
LOCATION:Sótano templo\, 1271 E 9th St. Des Moines\, IA 50316\, Des Moines\, United States
CATEGORIES:Ministerios
END:VEVENT
BEGIN:VEVENT
DTSTART;TZID=UTC:20270607T190000
DTEND;TZID=UTC:20270607T200000
DTSTAMP:20260422T125538
CREATED:20230424T162309Z
LAST-MODIFIED:20230424T162830Z
UID:10007713-1812394800-1812398400@oloadsm.com
SUMMARY:Grupo de Oración Crecimiento
DESCRIPTION:
URL:https://oloadsm.com/event/grupo-de-oracion-crecimiento/2027-06-07/
LOCATION:Sótano templo\, 1271 E 9th St. Des Moines\, IA 50316\, Des Moines\, United States
CATEGORIES:Ministerios
END:VEVENT
BEGIN:VEVENT
DTSTART;TZID=UTC:20270607T193000
DTEND;TZID=UTC:20270607T210000
DTSTAMP:20260422T125538
CREATED:20230424T162506Z
LAST-MODIFIED:20230424T162924Z
UID:10007451-1812396600-1812402000@oloadsm.com
SUMMARY:Grupo de Oración Asamblea
DESCRIPTION:
URL:https://oloadsm.com/event/grupo-de-oracion-asamblea/2027-06-07/
LOCATION:Sótano templo\, 1271 E 9th St. Des Moines\, IA 50316\, Des Moines\, United States
CATEGORIES:Ministerios
END:VEVENT
BEGIN:VEVENT
DTSTART;TZID=UTC:20270610T180000
DTEND;TZID=UTC:20270610T200000
DTSTAMP:20260422T125538
CREATED:20230424T161744Z
LAST-MODIFIED:20230424T163017Z
UID:10006928-1812650400-1812657600@oloadsm.com
SUMMARY:Grupo de Jóvenes
DESCRIPTION:
URL:https://oloadsm.com/event/grupo-de-jovenes/2027-06-10/
LOCATION:Sótano templo\, 1271 E 9th St. Des Moines\, IA 50316\, Des Moines\, United States
CATEGORIES:Ministerios
END:VEVENT
BEGIN:VEVENT
DTSTART;TZID=UTC:20270611T190000
DTEND;TZID=UTC:20270611T213000
DTSTAMP:20260422T125538
CREATED:20230404T152418Z
LAST-MODIFIED:20230404T153028Z
UID:10005621-1812740400-1812749400@oloadsm.com
SUMMARY:Biblia
DESCRIPTION:
URL:https://oloadsm.com/event/biblia/2027-06-11/
LOCATION:Sótano templo\, 1271 E 9th St. Des Moines\, IA 50316\, Des Moines\, United States
CATEGORIES:Ministerios
END:VEVENT
BEGIN:VEVENT
DTSTART;TZID=UTC:20270614T190000
DTEND;TZID=UTC:20270614T200000
DTSTAMP:20260422T125538
CREATED:20230424T162309Z
LAST-MODIFIED:20230424T162830Z
UID:10007714-1812999600-1813003200@oloadsm.com
SUMMARY:Grupo de Oración Crecimiento
DESCRIPTION:
URL:https://oloadsm.com/event/grupo-de-oracion-crecimiento/2027-06-14/
LOCATION:Sótano templo\, 1271 E 9th St. Des Moines\, IA 50316\, Des Moines\, United States
CATEGORIES:Ministerios
END:VEVENT
BEGIN:VEVENT
DTSTART;TZID=UTC:20270614T193000
DTEND;TZID=UTC:20270614T210000
DTSTAMP:20260422T125538
CREATED:20230424T162506Z
LAST-MODIFIED:20230424T162924Z
UID:10007452-1813001400-1813006800@oloadsm.com
SUMMARY:Grupo de Oración Asamblea
DESCRIPTION:
URL:https://oloadsm.com/event/grupo-de-oracion-asamblea/2027-06-14/
LOCATION:Sótano templo\, 1271 E 9th St. Des Moines\, IA 50316\, Des Moines\, United States
CATEGORIES:Ministerios
END:VEVENT
BEGIN:VEVENT
DTSTART;TZID=UTC:20270617T180000
DTEND;TZID=UTC:20270617T200000
DTSTAMP:20260422T125538
CREATED:20230424T161744Z
LAST-MODIFIED:20230424T163017Z
UID:10006929-1813255200-1813262400@oloadsm.com
SUMMARY:Grupo de Jóvenes
DESCRIPTION:
URL:https://oloadsm.com/event/grupo-de-jovenes/2027-06-17/
LOCATION:Sótano templo\, 1271 E 9th St. Des Moines\, IA 50316\, Des Moines\, United States
CATEGORIES:Ministerios
END:VEVENT
BEGIN:VEVENT
DTSTART;TZID=UTC:20270618T190000
DTEND;TZID=UTC:20270618T213000
DTSTAMP:20260422T125538
CREATED:20230404T152418Z
LAST-MODIFIED:20230404T153028Z
UID:10005622-1813345200-1813354200@oloadsm.com
SUMMARY:Biblia
DESCRIPTION:
URL:https://oloadsm.com/event/biblia/2027-06-18/
LOCATION:Sótano templo\, 1271 E 9th St. Des Moines\, IA 50316\, Des Moines\, United States
CATEGORIES:Ministerios
END:VEVENT
BEGIN:VEVENT
DTSTART;TZID=UTC:20270621T190000
DTEND;TZID=UTC:20270621T200000
DTSTAMP:20260422T125538
CREATED:20230424T162309Z
LAST-MODIFIED:20230424T162830Z
UID:10007715-1813604400-1813608000@oloadsm.com
SUMMARY:Grupo de Oración Crecimiento
DESCRIPTION:
URL:https://oloadsm.com/event/grupo-de-oracion-crecimiento/2027-06-21/
LOCATION:Sótano templo\, 1271 E 9th St. Des Moines\, IA 50316\, Des Moines\, United States
CATEGORIES:Ministerios
END:VEVENT
BEGIN:VEVENT
DTSTART;TZID=UTC:20270621T193000
DTEND;TZID=UTC:20270621T210000
DTSTAMP:20260422T125538
CREATED:20230424T162506Z
LAST-MODIFIED:20230424T162924Z
UID:10007453-1813606200-1813611600@oloadsm.com
SUMMARY:Grupo de Oración Asamblea
DESCRIPTION:
URL:https://oloadsm.com/event/grupo-de-oracion-asamblea/2027-06-21/
LOCATION:Sótano templo\, 1271 E 9th St. Des Moines\, IA 50316\, Des Moines\, United States
CATEGORIES:Ministerios
END:VEVENT
BEGIN:VEVENT
DTSTART;TZID=UTC:20270624T180000
DTEND;TZID=UTC:20270624T200000
DTSTAMP:20260422T125538
CREATED:20230424T161744Z
LAST-MODIFIED:20230424T163017Z
UID:10006930-1813860000-1813867200@oloadsm.com
SUMMARY:Grupo de Jóvenes
DESCRIPTION:
URL:https://oloadsm.com/event/grupo-de-jovenes/2027-06-24/
LOCATION:Sótano templo\, 1271 E 9th St. Des Moines\, IA 50316\, Des Moines\, United States
CATEGORIES:Ministerios
END:VEVENT
BEGIN:VEVENT
DTSTART;TZID=UTC:20270625T190000
DTEND;TZID=UTC:20270625T213000
DTSTAMP:20260422T125538
CREATED:20230404T152418Z
LAST-MODIFIED:20230404T153028Z
UID:10005623-1813950000-1813959000@oloadsm.com
SUMMARY:Biblia
DESCRIPTION:
URL:https://oloadsm.com/event/biblia/2027-06-25/
LOCATION:Sótano templo\, 1271 E 9th St. Des Moines\, IA 50316\, Des Moines\, United States
CATEGORIES:Ministerios
END:VEVENT
BEGIN:VEVENT
DTSTART;TZID=UTC:20270628T190000
DTEND;TZID=UTC:20270628T200000
DTSTAMP:20260422T125538
CREATED:20230424T162309Z
LAST-MODIFIED:20230424T162830Z
UID:10007716-1814209200-1814212800@oloadsm.com
SUMMARY:Grupo de Oración Crecimiento
DESCRIPTION:
URL:https://oloadsm.com/event/grupo-de-oracion-crecimiento/2027-06-28/
LOCATION:Sótano templo\, 1271 E 9th St. Des Moines\, IA 50316\, Des Moines\, United States
CATEGORIES:Ministerios
END:VEVENT
BEGIN:VEVENT
DTSTART;TZID=UTC:20270628T193000
DTEND;TZID=UTC:20270628T210000
DTSTAMP:20260422T125538
CREATED:20230424T162506Z
LAST-MODIFIED:20230424T162924Z
UID:10007454-1814211000-1814216400@oloadsm.com
SUMMARY:Grupo de Oración Asamblea
DESCRIPTION:
URL:https://oloadsm.com/event/grupo-de-oracion-asamblea/2027-06-28/
LOCATION:Sótano templo\, 1271 E 9th St. Des Moines\, IA 50316\, Des Moines\, United States
CATEGORIES:Ministerios
END:VEVENT
BEGIN:VEVENT
DTSTART;TZID=UTC:20270701T180000
DTEND;TZID=UTC:20270701T200000
DTSTAMP:20260422T125538
CREATED:20230424T161744Z
LAST-MODIFIED:20230424T163017Z
UID:10006931-1814464800-1814472000@oloadsm.com
SUMMARY:Grupo de Jóvenes
DESCRIPTION:
URL:https://oloadsm.com/event/grupo-de-jovenes/2027-07-01/
LOCATION:Sótano templo\, 1271 E 9th St. Des Moines\, IA 50316\, Des Moines\, United States
CATEGORIES:Ministerios
END:VEVENT
BEGIN:VEVENT
DTSTART;TZID=UTC:20270702T190000
DTEND;TZID=UTC:20270702T213000
DTSTAMP:20260422T125538
CREATED:20230404T152418Z
LAST-MODIFIED:20230404T153028Z
UID:10005624-1814554800-1814563800@oloadsm.com
SUMMARY:Biblia
DESCRIPTION:
URL:https://oloadsm.com/event/biblia/2027-07-02/
LOCATION:Sótano templo\, 1271 E 9th St. Des Moines\, IA 50316\, Des Moines\, United States
CATEGORIES:Ministerios
END:VEVENT
END:VCALENDAR