BEGIN:VCALENDAR
VERSION:2.0
PRODID:-//OLOA - ECPv6.0.13.1//NONSGML v1.0//EN
CALSCALE:GREGORIAN
METHOD:PUBLISH
X-ORIGINAL-URL:https://oloadsm.com
X-WR-CALDESC:Eventos para OLOA
REFRESH-INTERVAL;VALUE=DURATION:PT1H
X-Robots-Tag:noindex
X-PUBLISHED-TTL:PT1H
BEGIN:VTIMEZONE
TZID:UTC
BEGIN:STANDARD
TZOFFSETFROM:+0000
TZOFFSETTO:+0000
TZNAME:UTC
DTSTART:20270101T000000
END:STANDARD
END:VTIMEZONE
BEGIN:VEVENT
DTSTART;TZID=UTC:20270809T190000
DTEND;TZID=UTC:20270809T200000
DTSTAMP:20260422T213236
CREATED:20230424T162309Z
LAST-MODIFIED:20230424T162830Z
UID:10007722-1817838000-1817841600@oloadsm.com
SUMMARY:Grupo de Oración Crecimiento
DESCRIPTION:
URL:https://oloadsm.com/event/grupo-de-oracion-crecimiento/2027-08-09/
LOCATION:Sótano templo\, 1271 E 9th St. Des Moines\, IA 50316\, Des Moines\, United States
CATEGORIES:Ministerios
END:VEVENT
BEGIN:VEVENT
DTSTART;TZID=UTC:20270809T193000
DTEND;TZID=UTC:20270809T210000
DTSTAMP:20260422T213236
CREATED:20230424T162506Z
LAST-MODIFIED:20230424T162924Z
UID:10007460-1817839800-1817845200@oloadsm.com
SUMMARY:Grupo de Oración Asamblea
DESCRIPTION:
URL:https://oloadsm.com/event/grupo-de-oracion-asamblea/2027-08-09/
LOCATION:Sótano templo\, 1271 E 9th St. Des Moines\, IA 50316\, Des Moines\, United States
CATEGORIES:Ministerios
END:VEVENT
BEGIN:VEVENT
DTSTART;TZID=UTC:20270812T180000
DTEND;TZID=UTC:20270812T200000
DTSTAMP:20260422T213236
CREATED:20230424T161744Z
LAST-MODIFIED:20230424T163017Z
UID:10006937-1818093600-1818100800@oloadsm.com
SUMMARY:Grupo de Jóvenes
DESCRIPTION:
URL:https://oloadsm.com/event/grupo-de-jovenes/2027-08-12/
LOCATION:Sótano templo\, 1271 E 9th St. Des Moines\, IA 50316\, Des Moines\, United States
CATEGORIES:Ministerios
END:VEVENT
BEGIN:VEVENT
DTSTART;TZID=UTC:20270813T190000
DTEND;TZID=UTC:20270813T213000
DTSTAMP:20260422T213236
CREATED:20230404T152418Z
LAST-MODIFIED:20230404T153028Z
UID:10005630-1818183600-1818192600@oloadsm.com
SUMMARY:Biblia
DESCRIPTION:
URL:https://oloadsm.com/event/biblia/2027-08-13/
LOCATION:Sótano templo\, 1271 E 9th St. Des Moines\, IA 50316\, Des Moines\, United States
CATEGORIES:Ministerios
END:VEVENT
BEGIN:VEVENT
DTSTART;TZID=UTC:20270816T190000
DTEND;TZID=UTC:20270816T200000
DTSTAMP:20260422T213236
CREATED:20230424T162309Z
LAST-MODIFIED:20230424T162830Z
UID:10007723-1818442800-1818446400@oloadsm.com
SUMMARY:Grupo de Oración Crecimiento
DESCRIPTION:
URL:https://oloadsm.com/event/grupo-de-oracion-crecimiento/2027-08-16/
LOCATION:Sótano templo\, 1271 E 9th St. Des Moines\, IA 50316\, Des Moines\, United States
CATEGORIES:Ministerios
END:VEVENT
BEGIN:VEVENT
DTSTART;TZID=UTC:20270816T193000
DTEND;TZID=UTC:20270816T210000
DTSTAMP:20260422T213236
CREATED:20230424T162506Z
LAST-MODIFIED:20230424T162924Z
UID:10007461-1818444600-1818450000@oloadsm.com
SUMMARY:Grupo de Oración Asamblea
DESCRIPTION:
URL:https://oloadsm.com/event/grupo-de-oracion-asamblea/2027-08-16/
LOCATION:Sótano templo\, 1271 E 9th St. Des Moines\, IA 50316\, Des Moines\, United States
CATEGORIES:Ministerios
END:VEVENT
BEGIN:VEVENT
DTSTART;TZID=UTC:20270819T180000
DTEND;TZID=UTC:20270819T200000
DTSTAMP:20260422T213236
CREATED:20230424T161744Z
LAST-MODIFIED:20230424T163017Z
UID:10006938-1818698400-1818705600@oloadsm.com
SUMMARY:Grupo de Jóvenes
DESCRIPTION:
URL:https://oloadsm.com/event/grupo-de-jovenes/2027-08-19/
LOCATION:Sótano templo\, 1271 E 9th St. Des Moines\, IA 50316\, Des Moines\, United States
CATEGORIES:Ministerios
END:VEVENT
BEGIN:VEVENT
DTSTART;TZID=UTC:20270820T190000
DTEND;TZID=UTC:20270820T213000
DTSTAMP:20260422T213236
CREATED:20230404T152418Z
LAST-MODIFIED:20230404T153028Z
UID:10005631-1818788400-1818797400@oloadsm.com
SUMMARY:Biblia
DESCRIPTION:
URL:https://oloadsm.com/event/biblia/2027-08-20/
LOCATION:Sótano templo\, 1271 E 9th St. Des Moines\, IA 50316\, Des Moines\, United States
CATEGORIES:Ministerios
END:VEVENT
BEGIN:VEVENT
DTSTART;TZID=UTC:20270823T190000
DTEND;TZID=UTC:20270823T200000
DTSTAMP:20260422T213236
CREATED:20230424T162309Z
LAST-MODIFIED:20230424T162830Z
UID:10007724-1819047600-1819051200@oloadsm.com
SUMMARY:Grupo de Oración Crecimiento
DESCRIPTION:
URL:https://oloadsm.com/event/grupo-de-oracion-crecimiento/2027-08-23/
LOCATION:Sótano templo\, 1271 E 9th St. Des Moines\, IA 50316\, Des Moines\, United States
CATEGORIES:Ministerios
END:VEVENT
BEGIN:VEVENT
DTSTART;TZID=UTC:20270823T193000
DTEND;TZID=UTC:20270823T210000
DTSTAMP:20260422T213236
CREATED:20230424T162506Z
LAST-MODIFIED:20230424T162924Z
UID:10007462-1819049400-1819054800@oloadsm.com
SUMMARY:Grupo de Oración Asamblea
DESCRIPTION:
URL:https://oloadsm.com/event/grupo-de-oracion-asamblea/2027-08-23/
LOCATION:Sótano templo\, 1271 E 9th St. Des Moines\, IA 50316\, Des Moines\, United States
CATEGORIES:Ministerios
END:VEVENT
BEGIN:VEVENT
DTSTART;TZID=UTC:20270826T180000
DTEND;TZID=UTC:20270826T200000
DTSTAMP:20260422T213236
CREATED:20230424T161744Z
LAST-MODIFIED:20230424T163017Z
UID:10006939-1819303200-1819310400@oloadsm.com
SUMMARY:Grupo de Jóvenes
DESCRIPTION:
URL:https://oloadsm.com/event/grupo-de-jovenes/2027-08-26/
LOCATION:Sótano templo\, 1271 E 9th St. Des Moines\, IA 50316\, Des Moines\, United States
CATEGORIES:Ministerios
END:VEVENT
BEGIN:VEVENT
DTSTART;TZID=UTC:20270827T190000
DTEND;TZID=UTC:20270827T213000
DTSTAMP:20260422T213236
CREATED:20230404T152418Z
LAST-MODIFIED:20230404T153028Z
UID:10005632-1819393200-1819402200@oloadsm.com
SUMMARY:Biblia
DESCRIPTION:
URL:https://oloadsm.com/event/biblia/2027-08-27/
LOCATION:Sótano templo\, 1271 E 9th St. Des Moines\, IA 50316\, Des Moines\, United States
CATEGORIES:Ministerios
END:VEVENT
BEGIN:VEVENT
DTSTART;TZID=UTC:20270830T190000
DTEND;TZID=UTC:20270830T200000
DTSTAMP:20260422T213236
CREATED:20230424T162309Z
LAST-MODIFIED:20230424T162830Z
UID:10007725-1819652400-1819656000@oloadsm.com
SUMMARY:Grupo de Oración Crecimiento
DESCRIPTION:
URL:https://oloadsm.com/event/grupo-de-oracion-crecimiento/2027-08-30/
LOCATION:Sótano templo\, 1271 E 9th St. Des Moines\, IA 50316\, Des Moines\, United States
CATEGORIES:Ministerios
END:VEVENT
BEGIN:VEVENT
DTSTART;TZID=UTC:20270830T193000
DTEND;TZID=UTC:20270830T210000
DTSTAMP:20260422T213236
CREATED:20230424T162506Z
LAST-MODIFIED:20230424T162924Z
UID:10007463-1819654200-1819659600@oloadsm.com
SUMMARY:Grupo de Oración Asamblea
DESCRIPTION:
URL:https://oloadsm.com/event/grupo-de-oracion-asamblea/2027-08-30/
LOCATION:Sótano templo\, 1271 E 9th St. Des Moines\, IA 50316\, Des Moines\, United States
CATEGORIES:Ministerios
END:VEVENT
BEGIN:VEVENT
DTSTART;TZID=UTC:20270902T180000
DTEND;TZID=UTC:20270902T200000
DTSTAMP:20260422T213236
CREATED:20230424T161744Z
LAST-MODIFIED:20230424T163017Z
UID:10006940-1819908000-1819915200@oloadsm.com
SUMMARY:Grupo de Jóvenes
DESCRIPTION:
URL:https://oloadsm.com/event/grupo-de-jovenes/2027-09-02/
LOCATION:Sótano templo\, 1271 E 9th St. Des Moines\, IA 50316\, Des Moines\, United States
CATEGORIES:Ministerios
END:VEVENT
BEGIN:VEVENT
DTSTART;TZID=UTC:20270903T190000
DTEND;TZID=UTC:20270903T213000
DTSTAMP:20260422T213236
CREATED:20230404T152418Z
LAST-MODIFIED:20230404T153028Z
UID:10005633-1819998000-1820007000@oloadsm.com
SUMMARY:Biblia
DESCRIPTION:
URL:https://oloadsm.com/event/biblia/2027-09-03/
LOCATION:Sótano templo\, 1271 E 9th St. Des Moines\, IA 50316\, Des Moines\, United States
CATEGORIES:Ministerios
END:VEVENT
BEGIN:VEVENT
DTSTART;TZID=UTC:20270906T190000
DTEND;TZID=UTC:20270906T200000
DTSTAMP:20260422T213236
CREATED:20230424T162309Z
LAST-MODIFIED:20230424T162830Z
UID:10007726-1820257200-1820260800@oloadsm.com
SUMMARY:Grupo de Oración Crecimiento
DESCRIPTION:
URL:https://oloadsm.com/event/grupo-de-oracion-crecimiento/2027-09-06/
LOCATION:Sótano templo\, 1271 E 9th St. Des Moines\, IA 50316\, Des Moines\, United States
CATEGORIES:Ministerios
END:VEVENT
BEGIN:VEVENT
DTSTART;TZID=UTC:20270906T193000
DTEND;TZID=UTC:20270906T210000
DTSTAMP:20260422T213236
CREATED:20230424T162506Z
LAST-MODIFIED:20230424T162924Z
UID:10007464-1820259000-1820264400@oloadsm.com
SUMMARY:Grupo de Oración Asamblea
DESCRIPTION:
URL:https://oloadsm.com/event/grupo-de-oracion-asamblea/2027-09-06/
LOCATION:Sótano templo\, 1271 E 9th St. Des Moines\, IA 50316\, Des Moines\, United States
CATEGORIES:Ministerios
END:VEVENT
BEGIN:VEVENT
DTSTART;TZID=UTC:20270909T180000
DTEND;TZID=UTC:20270909T200000
DTSTAMP:20260422T213236
CREATED:20230424T161744Z
LAST-MODIFIED:20230424T163017Z
UID:10006941-1820512800-1820520000@oloadsm.com
SUMMARY:Grupo de Jóvenes
DESCRIPTION:
URL:https://oloadsm.com/event/grupo-de-jovenes/2027-09-09/
LOCATION:Sótano templo\, 1271 E 9th St. Des Moines\, IA 50316\, Des Moines\, United States
CATEGORIES:Ministerios
END:VEVENT
BEGIN:VEVENT
DTSTART;TZID=UTC:20270910T190000
DTEND;TZID=UTC:20270910T213000
DTSTAMP:20260422T213236
CREATED:20230404T152418Z
LAST-MODIFIED:20230404T153028Z
UID:10005634-1820602800-1820611800@oloadsm.com
SUMMARY:Biblia
DESCRIPTION:
URL:https://oloadsm.com/event/biblia/2027-09-10/
LOCATION:Sótano templo\, 1271 E 9th St. Des Moines\, IA 50316\, Des Moines\, United States
CATEGORIES:Ministerios
END:VEVENT
BEGIN:VEVENT
DTSTART;TZID=UTC:20270913T190000
DTEND;TZID=UTC:20270913T200000
DTSTAMP:20260422T213236
CREATED:20230424T162309Z
LAST-MODIFIED:20230424T162830Z
UID:10007727-1820862000-1820865600@oloadsm.com
SUMMARY:Grupo de Oración Crecimiento
DESCRIPTION:
URL:https://oloadsm.com/event/grupo-de-oracion-crecimiento/2027-09-13/
LOCATION:Sótano templo\, 1271 E 9th St. Des Moines\, IA 50316\, Des Moines\, United States
CATEGORIES:Ministerios
END:VEVENT
BEGIN:VEVENT
DTSTART;TZID=UTC:20270913T193000
DTEND;TZID=UTC:20270913T210000
DTSTAMP:20260422T213236
CREATED:20230424T162506Z
LAST-MODIFIED:20230424T162924Z
UID:10007465-1820863800-1820869200@oloadsm.com
SUMMARY:Grupo de Oración Asamblea
DESCRIPTION:
URL:https://oloadsm.com/event/grupo-de-oracion-asamblea/2027-09-13/
LOCATION:Sótano templo\, 1271 E 9th St. Des Moines\, IA 50316\, Des Moines\, United States
CATEGORIES:Ministerios
END:VEVENT
BEGIN:VEVENT
DTSTART;TZID=UTC:20270916T180000
DTEND;TZID=UTC:20270916T200000
DTSTAMP:20260422T213236
CREATED:20230424T161744Z
LAST-MODIFIED:20230424T163017Z
UID:10006942-1821117600-1821124800@oloadsm.com
SUMMARY:Grupo de Jóvenes
DESCRIPTION:
URL:https://oloadsm.com/event/grupo-de-jovenes/2027-09-16/
LOCATION:Sótano templo\, 1271 E 9th St. Des Moines\, IA 50316\, Des Moines\, United States
CATEGORIES:Ministerios
END:VEVENT
BEGIN:VEVENT
DTSTART;TZID=UTC:20270917T190000
DTEND;TZID=UTC:20270917T213000
DTSTAMP:20260422T213236
CREATED:20230404T152418Z
LAST-MODIFIED:20230404T153028Z
UID:10005635-1821207600-1821216600@oloadsm.com
SUMMARY:Biblia
DESCRIPTION:
URL:https://oloadsm.com/event/biblia/2027-09-17/
LOCATION:Sótano templo\, 1271 E 9th St. Des Moines\, IA 50316\, Des Moines\, United States
CATEGORIES:Ministerios
END:VEVENT
BEGIN:VEVENT
DTSTART;TZID=UTC:20270920T190000
DTEND;TZID=UTC:20270920T200000
DTSTAMP:20260422T213236
CREATED:20230424T162309Z
LAST-MODIFIED:20230424T162830Z
UID:10007728-1821466800-1821470400@oloadsm.com
SUMMARY:Grupo de Oración Crecimiento
DESCRIPTION:
URL:https://oloadsm.com/event/grupo-de-oracion-crecimiento/2027-09-20/
LOCATION:Sótano templo\, 1271 E 9th St. Des Moines\, IA 50316\, Des Moines\, United States
CATEGORIES:Ministerios
END:VEVENT
BEGIN:VEVENT
DTSTART;TZID=UTC:20270920T193000
DTEND;TZID=UTC:20270920T210000
DTSTAMP:20260422T213236
CREATED:20230424T162506Z
LAST-MODIFIED:20230424T162924Z
UID:10007466-1821468600-1821474000@oloadsm.com
SUMMARY:Grupo de Oración Asamblea
DESCRIPTION:
URL:https://oloadsm.com/event/grupo-de-oracion-asamblea/2027-09-20/
LOCATION:Sótano templo\, 1271 E 9th St. Des Moines\, IA 50316\, Des Moines\, United States
CATEGORIES:Ministerios
END:VEVENT
BEGIN:VEVENT
DTSTART;TZID=UTC:20270923T180000
DTEND;TZID=UTC:20270923T200000
DTSTAMP:20260422T213236
CREATED:20230424T161744Z
LAST-MODIFIED:20230424T163017Z
UID:10006943-1821722400-1821729600@oloadsm.com
SUMMARY:Grupo de Jóvenes
DESCRIPTION:
URL:https://oloadsm.com/event/grupo-de-jovenes/2027-09-23/
LOCATION:Sótano templo\, 1271 E 9th St. Des Moines\, IA 50316\, Des Moines\, United States
CATEGORIES:Ministerios
END:VEVENT
BEGIN:VEVENT
DTSTART;TZID=UTC:20270924T190000
DTEND;TZID=UTC:20270924T213000
DTSTAMP:20260422T213236
CREATED:20230404T152418Z
LAST-MODIFIED:20230404T153028Z
UID:10005636-1821812400-1821821400@oloadsm.com
SUMMARY:Biblia
DESCRIPTION:
URL:https://oloadsm.com/event/biblia/2027-09-24/
LOCATION:Sótano templo\, 1271 E 9th St. Des Moines\, IA 50316\, Des Moines\, United States
CATEGORIES:Ministerios
END:VEVENT
BEGIN:VEVENT
DTSTART;TZID=UTC:20270927T190000
DTEND;TZID=UTC:20270927T200000
DTSTAMP:20260422T213236
CREATED:20230424T162309Z
LAST-MODIFIED:20230424T162830Z
UID:10007729-1822071600-1822075200@oloadsm.com
SUMMARY:Grupo de Oración Crecimiento
DESCRIPTION:
URL:https://oloadsm.com/event/grupo-de-oracion-crecimiento/2027-09-27/
LOCATION:Sótano templo\, 1271 E 9th St. Des Moines\, IA 50316\, Des Moines\, United States
CATEGORIES:Ministerios
END:VEVENT
BEGIN:VEVENT
DTSTART;TZID=UTC:20270927T193000
DTEND;TZID=UTC:20270927T210000
DTSTAMP:20260422T213236
CREATED:20230424T162506Z
LAST-MODIFIED:20230424T162924Z
UID:10007467-1822073400-1822078800@oloadsm.com
SUMMARY:Grupo de Oración Asamblea
DESCRIPTION:
URL:https://oloadsm.com/event/grupo-de-oracion-asamblea/2027-09-27/
LOCATION:Sótano templo\, 1271 E 9th St. Des Moines\, IA 50316\, Des Moines\, United States
CATEGORIES:Ministerios
END:VEVENT
END:VCALENDAR