BEGIN:VCALENDAR
VERSION:2.0
PRODID:-//OLOA - ECPv6.0.13.1//NONSGML v1.0//EN
CALSCALE:GREGORIAN
METHOD:PUBLISH
X-WR-CALNAME:OLOA
X-ORIGINAL-URL:https://oloadsm.com
X-WR-CALDESC:Eventos para OLOA
REFRESH-INTERVAL;VALUE=DURATION:PT1H
X-Robots-Tag:noindex
X-PUBLISHED-TTL:PT1H
BEGIN:VTIMEZONE
TZID:UTC
BEGIN:STANDARD
TZOFFSETFROM:+0000
TZOFFSETTO:+0000
TZNAME:UTC
DTSTART:20270101T000000
END:STANDARD
END:VTIMEZONE
BEGIN:VEVENT
DTSTART;TZID=UTC:20270930T180000
DTEND;TZID=UTC:20270930T200000
DTSTAMP:20260423T020510
CREATED:20230424T161744Z
LAST-MODIFIED:20230424T163017Z
UID:10006944-1822327200-1822334400@oloadsm.com
SUMMARY:Grupo de Jóvenes
DESCRIPTION:
URL:https://oloadsm.com/event/grupo-de-jovenes/2027-09-30/
LOCATION:Sótano templo\, 1271 E 9th St. Des Moines\, IA 50316\, Des Moines\, United States
CATEGORIES:Ministerios
END:VEVENT
BEGIN:VEVENT
DTSTART;TZID=UTC:20271001T190000
DTEND;TZID=UTC:20271001T213000
DTSTAMP:20260423T020510
CREATED:20230404T152418Z
LAST-MODIFIED:20230404T153028Z
UID:10005637-1822417200-1822426200@oloadsm.com
SUMMARY:Biblia
DESCRIPTION:
URL:https://oloadsm.com/event/biblia/2027-10-01/
LOCATION:Sótano templo\, 1271 E 9th St. Des Moines\, IA 50316\, Des Moines\, United States
CATEGORIES:Ministerios
END:VEVENT
BEGIN:VEVENT
DTSTART;TZID=UTC:20271004T190000
DTEND;TZID=UTC:20271004T200000
DTSTAMP:20260423T020510
CREATED:20230424T162309Z
LAST-MODIFIED:20230424T162830Z
UID:10007730-1822676400-1822680000@oloadsm.com
SUMMARY:Grupo de Oración Crecimiento
DESCRIPTION:
URL:https://oloadsm.com/event/grupo-de-oracion-crecimiento/2027-10-04/
LOCATION:Sótano templo\, 1271 E 9th St. Des Moines\, IA 50316\, Des Moines\, United States
CATEGORIES:Ministerios
END:VEVENT
BEGIN:VEVENT
DTSTART;TZID=UTC:20271004T193000
DTEND;TZID=UTC:20271004T210000
DTSTAMP:20260423T020510
CREATED:20230424T162506Z
LAST-MODIFIED:20230424T162924Z
UID:10007468-1822678200-1822683600@oloadsm.com
SUMMARY:Grupo de Oración Asamblea
DESCRIPTION:
URL:https://oloadsm.com/event/grupo-de-oracion-asamblea/2027-10-04/
LOCATION:Sótano templo\, 1271 E 9th St. Des Moines\, IA 50316\, Des Moines\, United States
CATEGORIES:Ministerios
END:VEVENT
BEGIN:VEVENT
DTSTART;TZID=UTC:20271007T180000
DTEND;TZID=UTC:20271007T200000
DTSTAMP:20260423T020510
CREATED:20230424T161744Z
LAST-MODIFIED:20230424T163017Z
UID:10006945-1822932000-1822939200@oloadsm.com
SUMMARY:Grupo de Jóvenes
DESCRIPTION:
URL:https://oloadsm.com/event/grupo-de-jovenes/2027-10-07/
LOCATION:Sótano templo\, 1271 E 9th St. Des Moines\, IA 50316\, Des Moines\, United States
CATEGORIES:Ministerios
END:VEVENT
BEGIN:VEVENT
DTSTART;TZID=UTC:20271008T190000
DTEND;TZID=UTC:20271008T213000
DTSTAMP:20260423T020510
CREATED:20230404T152418Z
LAST-MODIFIED:20230404T153028Z
UID:10005638-1823022000-1823031000@oloadsm.com
SUMMARY:Biblia
DESCRIPTION:
URL:https://oloadsm.com/event/biblia/2027-10-08/
LOCATION:Sótano templo\, 1271 E 9th St. Des Moines\, IA 50316\, Des Moines\, United States
CATEGORIES:Ministerios
END:VEVENT
BEGIN:VEVENT
DTSTART;TZID=UTC:20271011T190000
DTEND;TZID=UTC:20271011T200000
DTSTAMP:20260423T020510
CREATED:20230424T162309Z
LAST-MODIFIED:20230424T162830Z
UID:10007731-1823281200-1823284800@oloadsm.com
SUMMARY:Grupo de Oración Crecimiento
DESCRIPTION:
URL:https://oloadsm.com/event/grupo-de-oracion-crecimiento/2027-10-11/
LOCATION:Sótano templo\, 1271 E 9th St. Des Moines\, IA 50316\, Des Moines\, United States
CATEGORIES:Ministerios
END:VEVENT
BEGIN:VEVENT
DTSTART;TZID=UTC:20271011T193000
DTEND;TZID=UTC:20271011T210000
DTSTAMP:20260423T020510
CREATED:20230424T162506Z
LAST-MODIFIED:20230424T162924Z
UID:10007469-1823283000-1823288400@oloadsm.com
SUMMARY:Grupo de Oración Asamblea
DESCRIPTION:
URL:https://oloadsm.com/event/grupo-de-oracion-asamblea/2027-10-11/
LOCATION:Sótano templo\, 1271 E 9th St. Des Moines\, IA 50316\, Des Moines\, United States
CATEGORIES:Ministerios
END:VEVENT
BEGIN:VEVENT
DTSTART;TZID=UTC:20271014T180000
DTEND;TZID=UTC:20271014T200000
DTSTAMP:20260423T020510
CREATED:20230424T161744Z
LAST-MODIFIED:20230424T163017Z
UID:10006946-1823536800-1823544000@oloadsm.com
SUMMARY:Grupo de Jóvenes
DESCRIPTION:
URL:https://oloadsm.com/event/grupo-de-jovenes/2027-10-14/
LOCATION:Sótano templo\, 1271 E 9th St. Des Moines\, IA 50316\, Des Moines\, United States
CATEGORIES:Ministerios
END:VEVENT
BEGIN:VEVENT
DTSTART;TZID=UTC:20271015T190000
DTEND;TZID=UTC:20271015T213000
DTSTAMP:20260423T020510
CREATED:20230404T152418Z
LAST-MODIFIED:20230404T153028Z
UID:10005639-1823626800-1823635800@oloadsm.com
SUMMARY:Biblia
DESCRIPTION:
URL:https://oloadsm.com/event/biblia/2027-10-15/
LOCATION:Sótano templo\, 1271 E 9th St. Des Moines\, IA 50316\, Des Moines\, United States
CATEGORIES:Ministerios
END:VEVENT
BEGIN:VEVENT
DTSTART;TZID=UTC:20271018T190000
DTEND;TZID=UTC:20271018T200000
DTSTAMP:20260423T020510
CREATED:20230424T162309Z
LAST-MODIFIED:20230424T162830Z
UID:10007732-1823886000-1823889600@oloadsm.com
SUMMARY:Grupo de Oración Crecimiento
DESCRIPTION:
URL:https://oloadsm.com/event/grupo-de-oracion-crecimiento/2027-10-18/
LOCATION:Sótano templo\, 1271 E 9th St. Des Moines\, IA 50316\, Des Moines\, United States
CATEGORIES:Ministerios
END:VEVENT
BEGIN:VEVENT
DTSTART;TZID=UTC:20271018T193000
DTEND;TZID=UTC:20271018T210000
DTSTAMP:20260423T020510
CREATED:20230424T162506Z
LAST-MODIFIED:20230424T162924Z
UID:10007470-1823887800-1823893200@oloadsm.com
SUMMARY:Grupo de Oración Asamblea
DESCRIPTION:
URL:https://oloadsm.com/event/grupo-de-oracion-asamblea/2027-10-18/
LOCATION:Sótano templo\, 1271 E 9th St. Des Moines\, IA 50316\, Des Moines\, United States
CATEGORIES:Ministerios
END:VEVENT
BEGIN:VEVENT
DTSTART;TZID=UTC:20271021T180000
DTEND;TZID=UTC:20271021T200000
DTSTAMP:20260423T020510
CREATED:20230424T161744Z
LAST-MODIFIED:20230424T163017Z
UID:10006947-1824141600-1824148800@oloadsm.com
SUMMARY:Grupo de Jóvenes
DESCRIPTION:
URL:https://oloadsm.com/event/grupo-de-jovenes/2027-10-21/
LOCATION:Sótano templo\, 1271 E 9th St. Des Moines\, IA 50316\, Des Moines\, United States
CATEGORIES:Ministerios
END:VEVENT
BEGIN:VEVENT
DTSTART;TZID=UTC:20271022T190000
DTEND;TZID=UTC:20271022T213000
DTSTAMP:20260423T020510
CREATED:20230404T152418Z
LAST-MODIFIED:20230404T153028Z
UID:10005640-1824231600-1824240600@oloadsm.com
SUMMARY:Biblia
DESCRIPTION:
URL:https://oloadsm.com/event/biblia/2027-10-22/
LOCATION:Sótano templo\, 1271 E 9th St. Des Moines\, IA 50316\, Des Moines\, United States
CATEGORIES:Ministerios
END:VEVENT
BEGIN:VEVENT
DTSTART;TZID=UTC:20271025T190000
DTEND;TZID=UTC:20271025T200000
DTSTAMP:20260423T020510
CREATED:20230424T162309Z
LAST-MODIFIED:20230424T162830Z
UID:10007733-1824490800-1824494400@oloadsm.com
SUMMARY:Grupo de Oración Crecimiento
DESCRIPTION:
URL:https://oloadsm.com/event/grupo-de-oracion-crecimiento/2027-10-25/
LOCATION:Sótano templo\, 1271 E 9th St. Des Moines\, IA 50316\, Des Moines\, United States
CATEGORIES:Ministerios
END:VEVENT
BEGIN:VEVENT
DTSTART;TZID=UTC:20271025T193000
DTEND;TZID=UTC:20271025T210000
DTSTAMP:20260423T020510
CREATED:20230424T162506Z
LAST-MODIFIED:20230424T162924Z
UID:10007471-1824492600-1824498000@oloadsm.com
SUMMARY:Grupo de Oración Asamblea
DESCRIPTION:
URL:https://oloadsm.com/event/grupo-de-oracion-asamblea/2027-10-25/
LOCATION:Sótano templo\, 1271 E 9th St. Des Moines\, IA 50316\, Des Moines\, United States
CATEGORIES:Ministerios
END:VEVENT
BEGIN:VEVENT
DTSTART;TZID=UTC:20271028T180000
DTEND;TZID=UTC:20271028T200000
DTSTAMP:20260423T020510
CREATED:20230424T161744Z
LAST-MODIFIED:20230424T163017Z
UID:10006948-1824746400-1824753600@oloadsm.com
SUMMARY:Grupo de Jóvenes
DESCRIPTION:
URL:https://oloadsm.com/event/grupo-de-jovenes/2027-10-28/
LOCATION:Sótano templo\, 1271 E 9th St. Des Moines\, IA 50316\, Des Moines\, United States
CATEGORIES:Ministerios
END:VEVENT
BEGIN:VEVENT
DTSTART;TZID=UTC:20271029T190000
DTEND;TZID=UTC:20271029T213000
DTSTAMP:20260423T020510
CREATED:20230404T152418Z
LAST-MODIFIED:20230404T153028Z
UID:10005641-1824836400-1824845400@oloadsm.com
SUMMARY:Biblia
DESCRIPTION:
URL:https://oloadsm.com/event/biblia/2027-10-29/
LOCATION:Sótano templo\, 1271 E 9th St. Des Moines\, IA 50316\, Des Moines\, United States
CATEGORIES:Ministerios
END:VEVENT
BEGIN:VEVENT
DTSTART;TZID=UTC:20271101T190000
DTEND;TZID=UTC:20271101T200000
DTSTAMP:20260423T020510
CREATED:20230424T162309Z
LAST-MODIFIED:20230424T162830Z
UID:10007734-1825095600-1825099200@oloadsm.com
SUMMARY:Grupo de Oración Crecimiento
DESCRIPTION:
URL:https://oloadsm.com/event/grupo-de-oracion-crecimiento/2027-11-01/
LOCATION:Sótano templo\, 1271 E 9th St. Des Moines\, IA 50316\, Des Moines\, United States
CATEGORIES:Ministerios
END:VEVENT
BEGIN:VEVENT
DTSTART;TZID=UTC:20271101T193000
DTEND;TZID=UTC:20271101T210000
DTSTAMP:20260423T020510
CREATED:20230424T162506Z
LAST-MODIFIED:20230424T162924Z
UID:10007472-1825097400-1825102800@oloadsm.com
SUMMARY:Grupo de Oración Asamblea
DESCRIPTION:
URL:https://oloadsm.com/event/grupo-de-oracion-asamblea/2027-11-01/
LOCATION:Sótano templo\, 1271 E 9th St. Des Moines\, IA 50316\, Des Moines\, United States
CATEGORIES:Ministerios
END:VEVENT
BEGIN:VEVENT
DTSTART;TZID=UTC:20271104T180000
DTEND;TZID=UTC:20271104T200000
DTSTAMP:20260423T020510
CREATED:20230424T161744Z
LAST-MODIFIED:20230424T163017Z
UID:10006949-1825351200-1825358400@oloadsm.com
SUMMARY:Grupo de Jóvenes
DESCRIPTION:
URL:https://oloadsm.com/event/grupo-de-jovenes/2027-11-04/
LOCATION:Sótano templo\, 1271 E 9th St. Des Moines\, IA 50316\, Des Moines\, United States
CATEGORIES:Ministerios
END:VEVENT
BEGIN:VEVENT
DTSTART;TZID=UTC:20271105T190000
DTEND;TZID=UTC:20271105T213000
DTSTAMP:20260423T020510
CREATED:20230404T152418Z
LAST-MODIFIED:20230404T153028Z
UID:10005642-1825441200-1825450200@oloadsm.com
SUMMARY:Biblia
DESCRIPTION:
URL:https://oloadsm.com/event/biblia/2027-11-05/
LOCATION:Sótano templo\, 1271 E 9th St. Des Moines\, IA 50316\, Des Moines\, United States
CATEGORIES:Ministerios
END:VEVENT
BEGIN:VEVENT
DTSTART;TZID=UTC:20271108T190000
DTEND;TZID=UTC:20271108T200000
DTSTAMP:20260423T020510
CREATED:20230424T162309Z
LAST-MODIFIED:20230424T162830Z
UID:10007735-1825700400-1825704000@oloadsm.com
SUMMARY:Grupo de Oración Crecimiento
DESCRIPTION:
URL:https://oloadsm.com/event/grupo-de-oracion-crecimiento/2027-11-08/
LOCATION:Sótano templo\, 1271 E 9th St. Des Moines\, IA 50316\, Des Moines\, United States
CATEGORIES:Ministerios
END:VEVENT
BEGIN:VEVENT
DTSTART;TZID=UTC:20271108T193000
DTEND;TZID=UTC:20271108T210000
DTSTAMP:20260423T020510
CREATED:20230424T162506Z
LAST-MODIFIED:20230424T162924Z
UID:10007473-1825702200-1825707600@oloadsm.com
SUMMARY:Grupo de Oración Asamblea
DESCRIPTION:
URL:https://oloadsm.com/event/grupo-de-oracion-asamblea/2027-11-08/
LOCATION:Sótano templo\, 1271 E 9th St. Des Moines\, IA 50316\, Des Moines\, United States
CATEGORIES:Ministerios
END:VEVENT
BEGIN:VEVENT
DTSTART;TZID=UTC:20271111T180000
DTEND;TZID=UTC:20271111T200000
DTSTAMP:20260423T020510
CREATED:20230424T161744Z
LAST-MODIFIED:20230424T163017Z
UID:10006950-1825956000-1825963200@oloadsm.com
SUMMARY:Grupo de Jóvenes
DESCRIPTION:
URL:https://oloadsm.com/event/grupo-de-jovenes/2027-11-11/
LOCATION:Sótano templo\, 1271 E 9th St. Des Moines\, IA 50316\, Des Moines\, United States
CATEGORIES:Ministerios
END:VEVENT
BEGIN:VEVENT
DTSTART;TZID=UTC:20271112T190000
DTEND;TZID=UTC:20271112T213000
DTSTAMP:20260423T020511
CREATED:20230404T152418Z
LAST-MODIFIED:20230404T153028Z
UID:10005643-1826046000-1826055000@oloadsm.com
SUMMARY:Biblia
DESCRIPTION:
URL:https://oloadsm.com/event/biblia/2027-11-12/
LOCATION:Sótano templo\, 1271 E 9th St. Des Moines\, IA 50316\, Des Moines\, United States
CATEGORIES:Ministerios
END:VEVENT
BEGIN:VEVENT
DTSTART;TZID=UTC:20271115T190000
DTEND;TZID=UTC:20271115T200000
DTSTAMP:20260423T020511
CREATED:20230424T162309Z
LAST-MODIFIED:20230424T162830Z
UID:10007736-1826305200-1826308800@oloadsm.com
SUMMARY:Grupo de Oración Crecimiento
DESCRIPTION:
URL:https://oloadsm.com/event/grupo-de-oracion-crecimiento/2027-11-15/
LOCATION:Sótano templo\, 1271 E 9th St. Des Moines\, IA 50316\, Des Moines\, United States
CATEGORIES:Ministerios
END:VEVENT
BEGIN:VEVENT
DTSTART;TZID=UTC:20271115T193000
DTEND;TZID=UTC:20271115T210000
DTSTAMP:20260423T020511
CREATED:20230424T162506Z
LAST-MODIFIED:20230424T162924Z
UID:10007474-1826307000-1826312400@oloadsm.com
SUMMARY:Grupo de Oración Asamblea
DESCRIPTION:
URL:https://oloadsm.com/event/grupo-de-oracion-asamblea/2027-11-15/
LOCATION:Sótano templo\, 1271 E 9th St. Des Moines\, IA 50316\, Des Moines\, United States
CATEGORIES:Ministerios
END:VEVENT
BEGIN:VEVENT
DTSTART;TZID=UTC:20271118T180000
DTEND;TZID=UTC:20271118T200000
DTSTAMP:20260423T020511
CREATED:20230424T161744Z
LAST-MODIFIED:20230424T163017Z
UID:10006951-1826560800-1826568000@oloadsm.com
SUMMARY:Grupo de Jóvenes
DESCRIPTION:
URL:https://oloadsm.com/event/grupo-de-jovenes/2027-11-18/
LOCATION:Sótano templo\, 1271 E 9th St. Des Moines\, IA 50316\, Des Moines\, United States
CATEGORIES:Ministerios
END:VEVENT
BEGIN:VEVENT
DTSTART;TZID=UTC:20271119T190000
DTEND;TZID=UTC:20271119T213000
DTSTAMP:20260423T020511
CREATED:20230404T152418Z
LAST-MODIFIED:20230404T153028Z
UID:10005644-1826650800-1826659800@oloadsm.com
SUMMARY:Biblia
DESCRIPTION:
URL:https://oloadsm.com/event/biblia/2027-11-19/
LOCATION:Sótano templo\, 1271 E 9th St. Des Moines\, IA 50316\, Des Moines\, United States
CATEGORIES:Ministerios
END:VEVENT
END:VCALENDAR