BEGIN:VCALENDAR
VERSION:2.0
PRODID:-//OLOA - ECPv6.0.13.1//NONSGML v1.0//EN
CALSCALE:GREGORIAN
METHOD:PUBLISH
X-WR-CALNAME:OLOA
X-ORIGINAL-URL:https://oloadsm.com
X-WR-CALDESC:Eventos para OLOA
REFRESH-INTERVAL;VALUE=DURATION:PT1H
X-Robots-Tag:noindex
X-PUBLISHED-TTL:PT1H
BEGIN:VTIMEZONE
TZID:UTC
BEGIN:STANDARD
TZOFFSETFROM:+0000
TZOFFSETTO:+0000
TZNAME:UTC
DTSTART:20270101T000000
END:STANDARD
END:VTIMEZONE
BEGIN:VEVENT
DTSTART;TZID=UTC:20271122T190000
DTEND;TZID=UTC:20271122T200000
DTSTAMP:20260423T061156
CREATED:20230424T162309Z
LAST-MODIFIED:20230424T162830Z
UID:10007737-1826910000-1826913600@oloadsm.com
SUMMARY:Grupo de Oración Crecimiento
DESCRIPTION:
URL:https://oloadsm.com/event/grupo-de-oracion-crecimiento/2027-11-22/
LOCATION:Sótano templo\, 1271 E 9th St. Des Moines\, IA 50316\, Des Moines\, United States
CATEGORIES:Ministerios
END:VEVENT
BEGIN:VEVENT
DTSTART;TZID=UTC:20271122T193000
DTEND;TZID=UTC:20271122T210000
DTSTAMP:20260423T061156
CREATED:20230424T162506Z
LAST-MODIFIED:20230424T162924Z
UID:10007475-1826911800-1826917200@oloadsm.com
SUMMARY:Grupo de Oración Asamblea
DESCRIPTION:
URL:https://oloadsm.com/event/grupo-de-oracion-asamblea/2027-11-22/
LOCATION:Sótano templo\, 1271 E 9th St. Des Moines\, IA 50316\, Des Moines\, United States
CATEGORIES:Ministerios
END:VEVENT
BEGIN:VEVENT
DTSTART;TZID=UTC:20271125T180000
DTEND;TZID=UTC:20271125T200000
DTSTAMP:20260423T061156
CREATED:20230424T161744Z
LAST-MODIFIED:20230424T163017Z
UID:10006952-1827165600-1827172800@oloadsm.com
SUMMARY:Grupo de Jóvenes
DESCRIPTION:
URL:https://oloadsm.com/event/grupo-de-jovenes/2027-11-25/
LOCATION:Sótano templo\, 1271 E 9th St. Des Moines\, IA 50316\, Des Moines\, United States
CATEGORIES:Ministerios
END:VEVENT
BEGIN:VEVENT
DTSTART;TZID=UTC:20271126T190000
DTEND;TZID=UTC:20271126T213000
DTSTAMP:20260423T061156
CREATED:20230404T152418Z
LAST-MODIFIED:20230404T153028Z
UID:10005645-1827255600-1827264600@oloadsm.com
SUMMARY:Biblia
DESCRIPTION:
URL:https://oloadsm.com/event/biblia/2027-11-26/
LOCATION:Sótano templo\, 1271 E 9th St. Des Moines\, IA 50316\, Des Moines\, United States
CATEGORIES:Ministerios
END:VEVENT
BEGIN:VEVENT
DTSTART;TZID=UTC:20271129T190000
DTEND;TZID=UTC:20271129T200000
DTSTAMP:20260423T061156
CREATED:20230424T162309Z
LAST-MODIFIED:20230424T162830Z
UID:10007738-1827514800-1827518400@oloadsm.com
SUMMARY:Grupo de Oración Crecimiento
DESCRIPTION:
URL:https://oloadsm.com/event/grupo-de-oracion-crecimiento/2027-11-29/
LOCATION:Sótano templo\, 1271 E 9th St. Des Moines\, IA 50316\, Des Moines\, United States
CATEGORIES:Ministerios
END:VEVENT
BEGIN:VEVENT
DTSTART;TZID=UTC:20271129T193000
DTEND;TZID=UTC:20271129T210000
DTSTAMP:20260423T061156
CREATED:20230424T162506Z
LAST-MODIFIED:20230424T162924Z
UID:10007476-1827516600-1827522000@oloadsm.com
SUMMARY:Grupo de Oración Asamblea
DESCRIPTION:
URL:https://oloadsm.com/event/grupo-de-oracion-asamblea/2027-11-29/
LOCATION:Sótano templo\, 1271 E 9th St. Des Moines\, IA 50316\, Des Moines\, United States
CATEGORIES:Ministerios
END:VEVENT
BEGIN:VEVENT
DTSTART;TZID=UTC:20271202T180000
DTEND;TZID=UTC:20271202T200000
DTSTAMP:20260423T061156
CREATED:20230424T161744Z
LAST-MODIFIED:20230424T163017Z
UID:10006953-1827770400-1827777600@oloadsm.com
SUMMARY:Grupo de Jóvenes
DESCRIPTION:
URL:https://oloadsm.com/event/grupo-de-jovenes/2027-12-02/
LOCATION:Sótano templo\, 1271 E 9th St. Des Moines\, IA 50316\, Des Moines\, United States
CATEGORIES:Ministerios
END:VEVENT
BEGIN:VEVENT
DTSTART;TZID=UTC:20271203T190000
DTEND;TZID=UTC:20271203T213000
DTSTAMP:20260423T061156
CREATED:20230404T152418Z
LAST-MODIFIED:20230404T153028Z
UID:10005646-1827860400-1827869400@oloadsm.com
SUMMARY:Biblia
DESCRIPTION:
URL:https://oloadsm.com/event/biblia/2027-12-03/
LOCATION:Sótano templo\, 1271 E 9th St. Des Moines\, IA 50316\, Des Moines\, United States
CATEGORIES:Ministerios
END:VEVENT
BEGIN:VEVENT
DTSTART;TZID=UTC:20271206T190000
DTEND;TZID=UTC:20271206T200000
DTSTAMP:20260423T061156
CREATED:20230424T162309Z
LAST-MODIFIED:20230424T162830Z
UID:10007739-1828119600-1828123200@oloadsm.com
SUMMARY:Grupo de Oración Crecimiento
DESCRIPTION:
URL:https://oloadsm.com/event/grupo-de-oracion-crecimiento/2027-12-06/
LOCATION:Sótano templo\, 1271 E 9th St. Des Moines\, IA 50316\, Des Moines\, United States
CATEGORIES:Ministerios
END:VEVENT
BEGIN:VEVENT
DTSTART;TZID=UTC:20271206T193000
DTEND;TZID=UTC:20271206T210000
DTSTAMP:20260423T061156
CREATED:20230424T162506Z
LAST-MODIFIED:20230424T162924Z
UID:10007477-1828121400-1828126800@oloadsm.com
SUMMARY:Grupo de Oración Asamblea
DESCRIPTION:
URL:https://oloadsm.com/event/grupo-de-oracion-asamblea/2027-12-06/
LOCATION:Sótano templo\, 1271 E 9th St. Des Moines\, IA 50316\, Des Moines\, United States
CATEGORIES:Ministerios
END:VEVENT
BEGIN:VEVENT
DTSTART;TZID=UTC:20271209T180000
DTEND;TZID=UTC:20271209T200000
DTSTAMP:20260423T061156
CREATED:20230424T161744Z
LAST-MODIFIED:20230424T163017Z
UID:10006954-1828375200-1828382400@oloadsm.com
SUMMARY:Grupo de Jóvenes
DESCRIPTION:
URL:https://oloadsm.com/event/grupo-de-jovenes/2027-12-09/
LOCATION:Sótano templo\, 1271 E 9th St. Des Moines\, IA 50316\, Des Moines\, United States
CATEGORIES:Ministerios
END:VEVENT
BEGIN:VEVENT
DTSTART;TZID=UTC:20271210T190000
DTEND;TZID=UTC:20271210T213000
DTSTAMP:20260423T061156
CREATED:20230404T152418Z
LAST-MODIFIED:20230404T153028Z
UID:10005647-1828465200-1828474200@oloadsm.com
SUMMARY:Biblia
DESCRIPTION:
URL:https://oloadsm.com/event/biblia/2027-12-10/
LOCATION:Sótano templo\, 1271 E 9th St. Des Moines\, IA 50316\, Des Moines\, United States
CATEGORIES:Ministerios
END:VEVENT
BEGIN:VEVENT
DTSTART;TZID=UTC:20271213T190000
DTEND;TZID=UTC:20271213T200000
DTSTAMP:20260423T061156
CREATED:20230424T162309Z
LAST-MODIFIED:20230424T162830Z
UID:10007740-1828724400-1828728000@oloadsm.com
SUMMARY:Grupo de Oración Crecimiento
DESCRIPTION:
URL:https://oloadsm.com/event/grupo-de-oracion-crecimiento/2027-12-13/
LOCATION:Sótano templo\, 1271 E 9th St. Des Moines\, IA 50316\, Des Moines\, United States
CATEGORIES:Ministerios
END:VEVENT
BEGIN:VEVENT
DTSTART;TZID=UTC:20271213T193000
DTEND;TZID=UTC:20271213T210000
DTSTAMP:20260423T061156
CREATED:20230424T162506Z
LAST-MODIFIED:20230424T162924Z
UID:10007478-1828726200-1828731600@oloadsm.com
SUMMARY:Grupo de Oración Asamblea
DESCRIPTION:
URL:https://oloadsm.com/event/grupo-de-oracion-asamblea/2027-12-13/
LOCATION:Sótano templo\, 1271 E 9th St. Des Moines\, IA 50316\, Des Moines\, United States
CATEGORIES:Ministerios
END:VEVENT
BEGIN:VEVENT
DTSTART;TZID=UTC:20271216T180000
DTEND;TZID=UTC:20271216T200000
DTSTAMP:20260423T061156
CREATED:20230424T161744Z
LAST-MODIFIED:20230424T163017Z
UID:10006955-1828980000-1828987200@oloadsm.com
SUMMARY:Grupo de Jóvenes
DESCRIPTION:
URL:https://oloadsm.com/event/grupo-de-jovenes/2027-12-16/
LOCATION:Sótano templo\, 1271 E 9th St. Des Moines\, IA 50316\, Des Moines\, United States
CATEGORIES:Ministerios
END:VEVENT
BEGIN:VEVENT
DTSTART;TZID=UTC:20271217T190000
DTEND;TZID=UTC:20271217T213000
DTSTAMP:20260423T061156
CREATED:20230404T152418Z
LAST-MODIFIED:20230404T153028Z
UID:10005648-1829070000-1829079000@oloadsm.com
SUMMARY:Biblia
DESCRIPTION:
URL:https://oloadsm.com/event/biblia/2027-12-17/
LOCATION:Sótano templo\, 1271 E 9th St. Des Moines\, IA 50316\, Des Moines\, United States
CATEGORIES:Ministerios
END:VEVENT
BEGIN:VEVENT
DTSTART;TZID=UTC:20271220T190000
DTEND;TZID=UTC:20271220T200000
DTSTAMP:20260423T061156
CREATED:20230424T162309Z
LAST-MODIFIED:20230424T162830Z
UID:10007741-1829329200-1829332800@oloadsm.com
SUMMARY:Grupo de Oración Crecimiento
DESCRIPTION:
URL:https://oloadsm.com/event/grupo-de-oracion-crecimiento/2027-12-20/
LOCATION:Sótano templo\, 1271 E 9th St. Des Moines\, IA 50316\, Des Moines\, United States
CATEGORIES:Ministerios
END:VEVENT
BEGIN:VEVENT
DTSTART;TZID=UTC:20271220T193000
DTEND;TZID=UTC:20271220T210000
DTSTAMP:20260423T061156
CREATED:20230424T162506Z
LAST-MODIFIED:20230424T162924Z
UID:10007479-1829331000-1829336400@oloadsm.com
SUMMARY:Grupo de Oración Asamblea
DESCRIPTION:
URL:https://oloadsm.com/event/grupo-de-oracion-asamblea/2027-12-20/
LOCATION:Sótano templo\, 1271 E 9th St. Des Moines\, IA 50316\, Des Moines\, United States
CATEGORIES:Ministerios
END:VEVENT
BEGIN:VEVENT
DTSTART;TZID=UTC:20271223T180000
DTEND;TZID=UTC:20271223T200000
DTSTAMP:20260423T061156
CREATED:20230424T161744Z
LAST-MODIFIED:20230424T163017Z
UID:10006956-1829584800-1829592000@oloadsm.com
SUMMARY:Grupo de Jóvenes
DESCRIPTION:
URL:https://oloadsm.com/event/grupo-de-jovenes/2027-12-23/
LOCATION:Sótano templo\, 1271 E 9th St. Des Moines\, IA 50316\, Des Moines\, United States
CATEGORIES:Ministerios
END:VEVENT
BEGIN:VEVENT
DTSTART;TZID=UTC:20271224T190000
DTEND;TZID=UTC:20271224T213000
DTSTAMP:20260423T061156
CREATED:20230404T152418Z
LAST-MODIFIED:20230404T153028Z
UID:10005649-1829674800-1829683800@oloadsm.com
SUMMARY:Biblia
DESCRIPTION:
URL:https://oloadsm.com/event/biblia/2027-12-24/
LOCATION:Sótano templo\, 1271 E 9th St. Des Moines\, IA 50316\, Des Moines\, United States
CATEGORIES:Ministerios
END:VEVENT
BEGIN:VEVENT
DTSTART;TZID=UTC:20271227T190000
DTEND;TZID=UTC:20271227T200000
DTSTAMP:20260423T061156
CREATED:20230424T162309Z
LAST-MODIFIED:20230424T162830Z
UID:10007742-1829934000-1829937600@oloadsm.com
SUMMARY:Grupo de Oración Crecimiento
DESCRIPTION:
URL:https://oloadsm.com/event/grupo-de-oracion-crecimiento/2027-12-27/
LOCATION:Sótano templo\, 1271 E 9th St. Des Moines\, IA 50316\, Des Moines\, United States
CATEGORIES:Ministerios
END:VEVENT
BEGIN:VEVENT
DTSTART;TZID=UTC:20271227T193000
DTEND;TZID=UTC:20271227T210000
DTSTAMP:20260423T061156
CREATED:20230424T162506Z
LAST-MODIFIED:20230424T162924Z
UID:10007480-1829935800-1829941200@oloadsm.com
SUMMARY:Grupo de Oración Asamblea
DESCRIPTION:
URL:https://oloadsm.com/event/grupo-de-oracion-asamblea/2027-12-27/
LOCATION:Sótano templo\, 1271 E 9th St. Des Moines\, IA 50316\, Des Moines\, United States
CATEGORIES:Ministerios
END:VEVENT
BEGIN:VEVENT
DTSTART;TZID=UTC:20271230T180000
DTEND;TZID=UTC:20271230T200000
DTSTAMP:20260423T061156
CREATED:20230424T161744Z
LAST-MODIFIED:20230424T163017Z
UID:10006957-1830189600-1830196800@oloadsm.com
SUMMARY:Grupo de Jóvenes
DESCRIPTION:
URL:https://oloadsm.com/event/grupo-de-jovenes/2027-12-30/
LOCATION:Sótano templo\, 1271 E 9th St. Des Moines\, IA 50316\, Des Moines\, United States
CATEGORIES:Ministerios
END:VEVENT
BEGIN:VEVENT
DTSTART;TZID=UTC:20271231T190000
DTEND;TZID=UTC:20271231T213000
DTSTAMP:20260423T061156
CREATED:20230404T152418Z
LAST-MODIFIED:20230404T153028Z
UID:10005650-1830279600-1830288600@oloadsm.com
SUMMARY:Biblia
DESCRIPTION:
URL:https://oloadsm.com/event/biblia/2027-12-31/
LOCATION:Sótano templo\, 1271 E 9th St. Des Moines\, IA 50316\, Des Moines\, United States
CATEGORIES:Ministerios
END:VEVENT
BEGIN:VEVENT
DTSTART;TZID=UTC:20280103T190000
DTEND;TZID=UTC:20280103T200000
DTSTAMP:20260423T061156
CREATED:20230424T162309Z
LAST-MODIFIED:20230424T162830Z
UID:10007743-1830538800-1830542400@oloadsm.com
SUMMARY:Grupo de Oración Crecimiento
DESCRIPTION:
URL:https://oloadsm.com/event/grupo-de-oracion-crecimiento/2028-01-03/
LOCATION:Sótano templo\, 1271 E 9th St. Des Moines\, IA 50316\, Des Moines\, United States
CATEGORIES:Ministerios
END:VEVENT
BEGIN:VEVENT
DTSTART;TZID=UTC:20280103T193000
DTEND;TZID=UTC:20280103T210000
DTSTAMP:20260423T061156
CREATED:20230424T162506Z
LAST-MODIFIED:20230424T162924Z
UID:10007481-1830540600-1830546000@oloadsm.com
SUMMARY:Grupo de Oración Asamblea
DESCRIPTION:
URL:https://oloadsm.com/event/grupo-de-oracion-asamblea/2028-01-03/
LOCATION:Sótano templo\, 1271 E 9th St. Des Moines\, IA 50316\, Des Moines\, United States
CATEGORIES:Ministerios
END:VEVENT
BEGIN:VEVENT
DTSTART;TZID=UTC:20280106T180000
DTEND;TZID=UTC:20280106T200000
DTSTAMP:20260423T061156
CREATED:20230424T161744Z
LAST-MODIFIED:20230424T163017Z
UID:10006958-1830794400-1830801600@oloadsm.com
SUMMARY:Grupo de Jóvenes
DESCRIPTION:
URL:https://oloadsm.com/event/grupo-de-jovenes/2028-01-06/
LOCATION:Sótano templo\, 1271 E 9th St. Des Moines\, IA 50316\, Des Moines\, United States
CATEGORIES:Ministerios
END:VEVENT
BEGIN:VEVENT
DTSTART;TZID=UTC:20280107T190000
DTEND;TZID=UTC:20280107T213000
DTSTAMP:20260423T061156
CREATED:20230404T152418Z
LAST-MODIFIED:20230404T153028Z
UID:10005651-1830884400-1830893400@oloadsm.com
SUMMARY:Biblia
DESCRIPTION:
URL:https://oloadsm.com/event/biblia/2028-01-07/
LOCATION:Sótano templo\, 1271 E 9th St. Des Moines\, IA 50316\, Des Moines\, United States
CATEGORIES:Ministerios
END:VEVENT
BEGIN:VEVENT
DTSTART;TZID=UTC:20280110T190000
DTEND;TZID=UTC:20280110T200000
DTSTAMP:20260423T061156
CREATED:20230424T162309Z
LAST-MODIFIED:20230424T162830Z
UID:10007744-1831143600-1831147200@oloadsm.com
SUMMARY:Grupo de Oración Crecimiento
DESCRIPTION:
URL:https://oloadsm.com/event/grupo-de-oracion-crecimiento/2028-01-10/
LOCATION:Sótano templo\, 1271 E 9th St. Des Moines\, IA 50316\, Des Moines\, United States
CATEGORIES:Ministerios
END:VEVENT
BEGIN:VEVENT
DTSTART;TZID=UTC:20280110T193000
DTEND;TZID=UTC:20280110T210000
DTSTAMP:20260423T061156
CREATED:20230424T162506Z
LAST-MODIFIED:20230424T162924Z
UID:10007482-1831145400-1831150800@oloadsm.com
SUMMARY:Grupo de Oración Asamblea
DESCRIPTION:
URL:https://oloadsm.com/event/grupo-de-oracion-asamblea/2028-01-10/
LOCATION:Sótano templo\, 1271 E 9th St. Des Moines\, IA 50316\, Des Moines\, United States
CATEGORIES:Ministerios
END:VEVENT
END:VCALENDAR