BEGIN:VCALENDAR
VERSION:2.0
PRODID:-//OLOA - ECPv6.0.13.1//NONSGML v1.0//EN
CALSCALE:GREGORIAN
METHOD:PUBLISH
X-WR-CALNAME:OLOA
X-ORIGINAL-URL:https://oloadsm.com
X-WR-CALDESC:Eventos para OLOA
REFRESH-INTERVAL;VALUE=DURATION:PT1H
X-Robots-Tag:noindex
X-PUBLISHED-TTL:PT1H
BEGIN:VTIMEZONE
TZID:UTC
BEGIN:STANDARD
TZOFFSETFROM:+0000
TZOFFSETTO:+0000
TZNAME:UTC
DTSTART:20280101T000000
END:STANDARD
END:VTIMEZONE
BEGIN:VEVENT
DTSTART;TZID=UTC:20280323T180000
DTEND;TZID=UTC:20280323T200000
DTSTAMP:20260423T195850
CREATED:20230424T161744Z
LAST-MODIFIED:20230424T163017Z
UID:10006969-1837447200-1837454400@oloadsm.com
SUMMARY:Grupo de Jóvenes
DESCRIPTION:
URL:https://oloadsm.com/event/grupo-de-jovenes/2028-03-23/
LOCATION:Sótano templo\, 1271 E 9th St. Des Moines\, IA 50316\, Des Moines\, United States
CATEGORIES:Ministerios
END:VEVENT
BEGIN:VEVENT
DTSTART;TZID=UTC:20280324T190000
DTEND;TZID=UTC:20280324T213000
DTSTAMP:20260423T195850
CREATED:20230404T152418Z
LAST-MODIFIED:20230404T153028Z
UID:10005662-1837537200-1837546200@oloadsm.com
SUMMARY:Biblia
DESCRIPTION:
URL:https://oloadsm.com/event/biblia/2028-03-24/
LOCATION:Sótano templo\, 1271 E 9th St. Des Moines\, IA 50316\, Des Moines\, United States
CATEGORIES:Ministerios
END:VEVENT
BEGIN:VEVENT
DTSTART;TZID=UTC:20280327T190000
DTEND;TZID=UTC:20280327T200000
DTSTAMP:20260423T195850
CREATED:20230424T162309Z
LAST-MODIFIED:20230424T162830Z
UID:10007755-1837796400-1837800000@oloadsm.com
SUMMARY:Grupo de Oración Crecimiento
DESCRIPTION:
URL:https://oloadsm.com/event/grupo-de-oracion-crecimiento/2028-03-27/
LOCATION:Sótano templo\, 1271 E 9th St. Des Moines\, IA 50316\, Des Moines\, United States
CATEGORIES:Ministerios
END:VEVENT
BEGIN:VEVENT
DTSTART;TZID=UTC:20280327T193000
DTEND;TZID=UTC:20280327T210000
DTSTAMP:20260423T195850
CREATED:20230424T162506Z
LAST-MODIFIED:20230424T162924Z
UID:10007493-1837798200-1837803600@oloadsm.com
SUMMARY:Grupo de Oración Asamblea
DESCRIPTION:
URL:https://oloadsm.com/event/grupo-de-oracion-asamblea/2028-03-27/
LOCATION:Sótano templo\, 1271 E 9th St. Des Moines\, IA 50316\, Des Moines\, United States
CATEGORIES:Ministerios
END:VEVENT
BEGIN:VEVENT
DTSTART;TZID=UTC:20280330T180000
DTEND;TZID=UTC:20280330T200000
DTSTAMP:20260423T195850
CREATED:20230424T161744Z
LAST-MODIFIED:20230424T163017Z
UID:10006970-1838052000-1838059200@oloadsm.com
SUMMARY:Grupo de Jóvenes
DESCRIPTION:
URL:https://oloadsm.com/event/grupo-de-jovenes/2028-03-30/
LOCATION:Sótano templo\, 1271 E 9th St. Des Moines\, IA 50316\, Des Moines\, United States
CATEGORIES:Ministerios
END:VEVENT
BEGIN:VEVENT
DTSTART;TZID=UTC:20280331T190000
DTEND;TZID=UTC:20280331T213000
DTSTAMP:20260423T195850
CREATED:20230404T152418Z
LAST-MODIFIED:20230404T153028Z
UID:10005663-1838142000-1838151000@oloadsm.com
SUMMARY:Biblia
DESCRIPTION:
URL:https://oloadsm.com/event/biblia/2028-03-31/
LOCATION:Sótano templo\, 1271 E 9th St. Des Moines\, IA 50316\, Des Moines\, United States
CATEGORIES:Ministerios
END:VEVENT
BEGIN:VEVENT
DTSTART;TZID=UTC:20280403T190000
DTEND;TZID=UTC:20280403T200000
DTSTAMP:20260423T195850
CREATED:20230424T162309Z
LAST-MODIFIED:20230424T162830Z
UID:10007756-1838401200-1838404800@oloadsm.com
SUMMARY:Grupo de Oración Crecimiento
DESCRIPTION:
URL:https://oloadsm.com/event/grupo-de-oracion-crecimiento/2028-04-03/
LOCATION:Sótano templo\, 1271 E 9th St. Des Moines\, IA 50316\, Des Moines\, United States
CATEGORIES:Ministerios
END:VEVENT
BEGIN:VEVENT
DTSTART;TZID=UTC:20280403T193000
DTEND;TZID=UTC:20280403T210000
DTSTAMP:20260423T195850
CREATED:20230424T162506Z
LAST-MODIFIED:20230424T162924Z
UID:10007494-1838403000-1838408400@oloadsm.com
SUMMARY:Grupo de Oración Asamblea
DESCRIPTION:
URL:https://oloadsm.com/event/grupo-de-oracion-asamblea/2028-04-03/
LOCATION:Sótano templo\, 1271 E 9th St. Des Moines\, IA 50316\, Des Moines\, United States
CATEGORIES:Ministerios
END:VEVENT
BEGIN:VEVENT
DTSTART;TZID=UTC:20280406T180000
DTEND;TZID=UTC:20280406T200000
DTSTAMP:20260423T195850
CREATED:20230424T161744Z
LAST-MODIFIED:20230424T163017Z
UID:10006971-1838656800-1838664000@oloadsm.com
SUMMARY:Grupo de Jóvenes
DESCRIPTION:
URL:https://oloadsm.com/event/grupo-de-jovenes/2028-04-06/
LOCATION:Sótano templo\, 1271 E 9th St. Des Moines\, IA 50316\, Des Moines\, United States
CATEGORIES:Ministerios
END:VEVENT
BEGIN:VEVENT
DTSTART;TZID=UTC:20280410T190000
DTEND;TZID=UTC:20280410T200000
DTSTAMP:20260423T195850
CREATED:20230424T162309Z
LAST-MODIFIED:20230424T162830Z
UID:10007757-1839006000-1839009600@oloadsm.com
SUMMARY:Grupo de Oración Crecimiento
DESCRIPTION:
URL:https://oloadsm.com/event/grupo-de-oracion-crecimiento/2028-04-10/
LOCATION:Sótano templo\, 1271 E 9th St. Des Moines\, IA 50316\, Des Moines\, United States
CATEGORIES:Ministerios
END:VEVENT
BEGIN:VEVENT
DTSTART;TZID=UTC:20280410T193000
DTEND;TZID=UTC:20280410T210000
DTSTAMP:20260423T195850
CREATED:20230424T162506Z
LAST-MODIFIED:20230424T162924Z
UID:10007495-1839007800-1839013200@oloadsm.com
SUMMARY:Grupo de Oración Asamblea
DESCRIPTION:
URL:https://oloadsm.com/event/grupo-de-oracion-asamblea/2028-04-10/
LOCATION:Sótano templo\, 1271 E 9th St. Des Moines\, IA 50316\, Des Moines\, United States
CATEGORIES:Ministerios
END:VEVENT
BEGIN:VEVENT
DTSTART;TZID=UTC:20280413T180000
DTEND;TZID=UTC:20280413T200000
DTSTAMP:20260423T195850
CREATED:20230424T161744Z
LAST-MODIFIED:20230424T163017Z
UID:10006972-1839261600-1839268800@oloadsm.com
SUMMARY:Grupo de Jóvenes
DESCRIPTION:
URL:https://oloadsm.com/event/grupo-de-jovenes/2028-04-13/
LOCATION:Sótano templo\, 1271 E 9th St. Des Moines\, IA 50316\, Des Moines\, United States
CATEGORIES:Ministerios
END:VEVENT
BEGIN:VEVENT
DTSTART;TZID=UTC:20280417T190000
DTEND;TZID=UTC:20280417T200000
DTSTAMP:20260423T195850
CREATED:20230424T162309Z
LAST-MODIFIED:20230424T162830Z
UID:10007758-1839610800-1839614400@oloadsm.com
SUMMARY:Grupo de Oración Crecimiento
DESCRIPTION:
URL:https://oloadsm.com/event/grupo-de-oracion-crecimiento/2028-04-17/
LOCATION:Sótano templo\, 1271 E 9th St. Des Moines\, IA 50316\, Des Moines\, United States
CATEGORIES:Ministerios
END:VEVENT
BEGIN:VEVENT
DTSTART;TZID=UTC:20280417T193000
DTEND;TZID=UTC:20280417T210000
DTSTAMP:20260423T195850
CREATED:20230424T162506Z
LAST-MODIFIED:20230424T162924Z
UID:10007496-1839612600-1839618000@oloadsm.com
SUMMARY:Grupo de Oración Asamblea
DESCRIPTION:
URL:https://oloadsm.com/event/grupo-de-oracion-asamblea/2028-04-17/
LOCATION:Sótano templo\, 1271 E 9th St. Des Moines\, IA 50316\, Des Moines\, United States
CATEGORIES:Ministerios
END:VEVENT
BEGIN:VEVENT
DTSTART;TZID=UTC:20280420T180000
DTEND;TZID=UTC:20280420T200000
DTSTAMP:20260423T195850
CREATED:20230424T161744Z
LAST-MODIFIED:20230424T163017Z
UID:10006973-1839866400-1839873600@oloadsm.com
SUMMARY:Grupo de Jóvenes
DESCRIPTION:
URL:https://oloadsm.com/event/grupo-de-jovenes/2028-04-20/
LOCATION:Sótano templo\, 1271 E 9th St. Des Moines\, IA 50316\, Des Moines\, United States
CATEGORIES:Ministerios
END:VEVENT
BEGIN:VEVENT
DTSTART;TZID=UTC:20280424T190000
DTEND;TZID=UTC:20280424T200000
DTSTAMP:20260423T195850
CREATED:20230424T162309Z
LAST-MODIFIED:20230424T162830Z
UID:10007759-1840215600-1840219200@oloadsm.com
SUMMARY:Grupo de Oración Crecimiento
DESCRIPTION:
URL:https://oloadsm.com/event/grupo-de-oracion-crecimiento/2028-04-24/
LOCATION:Sótano templo\, 1271 E 9th St. Des Moines\, IA 50316\, Des Moines\, United States
CATEGORIES:Ministerios
END:VEVENT
BEGIN:VEVENT
DTSTART;TZID=UTC:20280424T193000
DTEND;TZID=UTC:20280424T210000
DTSTAMP:20260423T195850
CREATED:20230424T162506Z
LAST-MODIFIED:20230424T162924Z
UID:10007497-1840217400-1840222800@oloadsm.com
SUMMARY:Grupo de Oración Asamblea
DESCRIPTION:
URL:https://oloadsm.com/event/grupo-de-oracion-asamblea/2028-04-24/
LOCATION:Sótano templo\, 1271 E 9th St. Des Moines\, IA 50316\, Des Moines\, United States
CATEGORIES:Ministerios
END:VEVENT
END:VCALENDAR